{"text_format":"1","workbook":"xlsx","n_sheets":8,"sheets":["使い方","照明灯台帳 別紙8-1","分電盤台帳 別紙8-2","照明灯 別紙３-1","照明灯 別紙３-２","分電盤 別紙５-1","分電盤 別紙５-2","照明灯一覧 別紙７"],"not_rendered":{"charts":0,"images":0,"macros":1,"external_links":0,"defined_names":10,"comments":2,"pivot_tables":0},"unopened":[],"bounds":{"document_bytes":16777216,"sheet_cells":100000,"rows_first":2000,"rows_last":500,"rows_between":2000,"halvings":0,"cell_chars":16384,"cell_head_chars":4096},"cells_cut":0,"cells_raw":0,"read":"whole","date_system":"1900"}

{"sheet":"使い方","index":0,"n_rows":21,"n_cols":6,"rows_kept":21,"cut":false,"hidden":false,"merged":[[1,3,1,10]]}
[]
[null,null,null,"このブック（引継用様式データ）の使い方　"]
[null,null,null,null,"（このブックには、データの不要な変更を防ぐため、ロックされているシートがあります）"]
[]
[null,null,"①　別紙8-1のデータを入力する。"]
[null,null,null,"行が足りない場合は、行挿入する。（シートの保護の解除※が必要）"]
[null,"　",null,null,null,"　　　※　校閲タブ→　シート保護の解除　解除パスワードは「3011」です。"]
[]
[null,null,"②　別紙3-2を作成する。　"]
[null,null,null,"引き継ぐ施設毎の作成が必要です。"]
[]
[null,null,"③　分電盤を引継ぐ場合は、別紙8-2のデータを入力する。"]
[null,null,null,"行が足りない場合は、行挿入する。"]
[null,null,null,"別紙5-2を作成する。　引き継ぐ施設毎の作成が必要です。"]
[]
[null,null,"④　別紙3-1、5-1、７　は別紙8-1、8-2のデータを参照して自動作成されるが、"]
[null,null,null,"別紙8-1、8-2で行を追加した場合は、別紙７も行挿入し、正しくデータ参照できているか確認する。"]
[null,null,null,"（分電盤については、当初５台分しか用意していませんので、６台以上ある場合は行挿入が必要です。）"]
[]
[null,null,"⑤　別紙8-1、別紙8-2、別紙７の印刷プレビューを確認し、見やすい印刷結果となるよう調整する。"]
[null,null,null,"問題がなければ、上記を印刷する。"]

{"sheet":"照明灯台帳 別紙8-1","index":1,"n_rows":56,"n_cols":61,"rows_kept":56,"cut":false,"hidden":false,"merged":[[1,52,1,55],[34,52,34,55],[51,2,51,3],[33,12,33,13]]}
[null,null,null,null,null,"別表７",null,"別表９",null,null,null,null,null,null,null,null,null,null,null,null,null,"別表２","別表11",null,null,null,null,null,null,"別表10","別表１","別表８",null,null,null,"別表13","別表14","別表15","別表16",null,null,null,null,null,"別表３","別表４","別表５","別表６",null,null,null,"別表17"]
["年度\n官民\n番号","整理番号","年度","事業\n区分","事業名","原因","文書\n番号","維持担当\n事務所","引継の相手方","引継\n年月日","寄付の\n相手方","寄付\n年月日","整理\n番号","管理\n番号","路線名","交差点名","区名","町名","丁目","番地","家名\n目標物","照明区分","灯種区分","容量\n1","灯数1","容量2","灯数2","容量3","灯数3","料金\n区分","施設\n区分","照明灯\n形体","連続\n照明時\n灯数","連続\n照明時\n番号","分電盤\n番号","設置\n区分\n目的","独立柱\n材質","独立柱\n形体","添架\n電柱","引込電柱番号","灯具","使用\n電圧","安定器又は制御装置の種類","灯柱","照明柱\n塗装種別","照明柱\n設置箇所","照明柱\n地際部\n状況","照明柱\n基礎種別","設置\n年月日","移設\n年月日","廃灯\n年月日","関電営業所","門標番号",null,null,null,"集約\n番号","電気業者名","緯度","経度","備考"]
[null,{"$f":"IF(M3=\"\",\"\",M3)","v":1},2022,"民間","（仮称）〇〇○○開発（３工区）","引継",null,"中部建設","（株）〇〇○○神戸支社",null,null,null,1,"6-6601","〇〇28号線","加納町６丁目","中央区","加納町","6丁目","5-1",null,"防犯灯","LED灯","9.2VA",1,null,null,null,null,"定額","独立","単独",null,null,null,"道路","鉄柱","I型",null,"ｶﾉｳﾁｮｳ5E3S1W2","NNY20343LE1",100,null,"防犯灯 H=5.5m","亜鉛メッキ","車道","As舗装","側溝埋設型","2022-10-10",null,null,"神戸営業所","03","45","1234","567890",null,"〇〇電気(有)","34.87654321","135.87654321","ﾎﾟｰﾙ名称,型式○○"]
[null,{"$f":"IF(M4=\"\",\"\",M4)","v":2},2023,"公共","〇〇土地区画整理","引継",null,"中部建設","〇〇公社",null,null,null,2,"6-6602","〇〇29号線",null,"中央区","加納町","7丁目","5-2",null,"防犯灯","LED灯","18.6VA",1,null,null,null,null,"定額","添架","連続",7,1,"10-100","道路",null,null,"関電柱","ｶﾉｳﾁｮｳ5E4","NNY20383LE7",100,null,null,null,null,null,null,"2022-10-11",null,null,"神戸営業所","03","45","1234","567891",null,"〇〇電気(有)","34.87654322","135.87654322","ｶｯﾄﾙｰﾊﾞ付"]
[null,{"$f":"IF(M5=\"\",\"\",M5)","v":""}]
[null,{"$f":"IF(M6=\"\",\"\",M6)","v":""}]
[null,""]
[null,""]
[null,""]
[null,""]
[null,""]
[null,""]
[null,""]
[null,""]
[null,""]
[null,""]
[null,""]
[null,""]
[null,""]
[null,""]
[null,""]
[null,""]
[null,""]
[null,""]
[null,""]
[null,""]
[null,""]
[null,""]
[null,""]
[null,""]
[null,""]
[null,""]
[]
[null,null,"＜記入例＞",null,null,null,null,null,null,null,null,null,"〈記入例〉"]
[null,null,2022,"民間","仮称 ○○開発","引継",null,"北建設","(株)○○","2013-07-01",null,null,1,"9-150","○○号線",null,"北区","○○町","○丁目","1-1",null,"局部照明","LED灯","96VA",1,null,null,null,null,"定額","独立","単独",null,null,null,"道路","鉄柱","r型",null,"ｶﾉｳﾁｮｳ5E3S1W2","NNY20343LE1",200,"定電力型","8-18B","亜鉛メッキ",null,null,"舗装埋設型","2012-06-01",null,null,"神戸営業所","14桁のお客さま番号",null,null,null,null,"○○電気(株)","34.87654321","135.87654321","ｶｯﾄﾙｰﾊﾞ付"]
[null,null,2023,"民間","自治会管理","寄付",null,"西部建設","△△自治会",null,null,null,2,"5-600","○○号線",null,"長田区","○○町","○丁目","2-30",null,"防犯灯","LED灯","9.2VA",1,null,null,null,null,"定額","添架","単独",null,null,null,"道路",null,null,"関電柱","ｶﾉｳﾁｮｳ5E4G1","YF31350PN9",100,"ｲﾝﾊﾞｰﾀｰ高力率",null,null,null,null,null,"2010-10-01",null,null,"神戸営業所","03","45","1234","567890",null,"○○電気工業(株)","34.87654322","135.87654322","電線共同溝"]
[null,null,"2024","公共","□□事業","引継",null,"西建設","□局 □課",null,null,null,3,"8-1000","□□号線",null,"西区","□□町","□丁目","4-45",null,"防犯灯","蛍光灯","32W",1,null,null,null,null,"定額","独立","単独",null,null,null,"道路","鉄柱","I型",null,null,"KCE070-2C",200,null,"防犯灯 H=5.5m","亜鉛メッキ+塗装",null,null,"側溝埋設型","2014-12-01",null,null,"神戸営業所","03","45","1234","567890",null,"(株)□□電気商会","34.87654323","135.87654323","ﾎﾟｰﾙ名称,型式○○"]
[null,null,"2025","公共","□□区画整理","引継",null,"中部建設","○○機構",null,null,null,4,"7-500","□□号線",null,"中央区","□□町","□丁目","7-77",null,"連続照明","ｾﾗﾒﾀ灯","180W",1,null,null,null,null,"従量","添架","連続",5,1,null,"道路",null,null,"共用柱",null,"KHE030",200,null,null,null,null,null,null,"2013-02-01",null,null,"明石営業所","03","45","1234","567890",null,"(株)□□電工","34.87654324","135.87654324"]
[]
["＜入力リスト＞"]
[null,null,null,"公共",null,"新設",null,"東部建設",null,null,null,null,null,null,null,null,"東灘区",null,null,null,null,"連続照明","蛍光灯",null,null,null,null,null,null,"定額","独立","単独",null,null,null,"道路","鉄柱","Y型","関電柱",null,null,null,null,null,"塗装","歩道","As舗装","舗装埋設型",null,null,null,"神戸営業所"]
[null,null,null,"民間",null,"引継",null,"中部建設",null,null,null,null,null,null,null,null,"灘区",null,null,null,null,"局部照明","水銀灯",null,null,null,null,null,null,"従量","添架","連続",null,null,null,"地下道","アルミ","r型","電話柱",null,null,null,null,null,"亜鉛メッキ","車道","Co舗装","土砂埋設型",null,null,null,"明石営業所"]
[null,null,null,null,null,"寄付",null,"西部建設",null,null,null,null,null,null,null,null,"中央区",null,null,null,null,"歩道照明","ﾅﾄﾘｳﾑ灯",null,null,null,null,null,null,null,null,null,null,null,null,"駅前広場","その他","I型","その他",null,null,null,null,null,"亜鉛メッキ+塗装","中央","Br舗装","基礎露出型",null,null,null,"加古川営業所"]
[null,null,null,null,null,null,null,"垂水建設",null,null,null,null,null,null,null,null,"兵庫区",null,null,null,null,"防犯灯","ｾﾗﾒﾀ灯",null,null,null,null,null,null,null,null,null,null,null,null,"ガード下",null,"その他","共用柱",null,null,null,null,null,null,"車道外","植栽帯","側溝埋設型",null,null,null,"三田営業所"]
[null,null,null,null,null,null,null,"西建設",null,null,null,null,null,null,null,null,"北区",null,null,null,null,null,"LED灯",null,null,null,null,null,null,null,null,null,null,null,null,"歩道橋",null,null,null,null,null,null,null,null,null,"橋梁","法面・路肩"]
[null,null,null,null,null,null,null,"北建設",null,null,null,null,null,null,null,null,"長田区",null,null,null,null,null,"その他",null,null,null,null,null,null,null,null,null,null,null,null,"トンネル",null,null,null,null,null,null,null,null,null,"その他","橋梁・高欄"]
[null,null,null,null,null,null,null,null,null,null,null,null,null,null,null,null,"須磨区",null,null,null,null,null,null,null,null,null,null,null,null,null,null,null,null,null,null,"その他",null,null,null,null,null,null,null,null,null,null,"擁壁埋込み"]
[null,null,null,null,null,null,null,null,null,null,null,null,null,null,null,null,"垂水区",null,null,null,null,null,null,null,null,null,null,null,null,null,null,null,null,null,null,null,null,null,null,null,null,null,null,null,null,null,"その他"]
[null,null,null,null,null,null,null,null,null,null,null,null,null,null,null,null,"西区"]
[]
[null,null,"（凡　例）"]
[null,null,null,null," ： 記入不要。"]
[null,null,"データの入力",null," ： １行に１灯分のデータを入力する。セルの結合は厳禁。"]
[null,null,"入力リスト",null," ： リストに表示がある場合はプルダウンメニューから選択する。"]
[null,null,"行数の追加",null," ： 入力行数が不足する場合は、行の範囲内で ”行の挿入” 操作によって追加する。（ドロップダウンリストが保持される）"]
[null,null,null,null,"　　ただし、別紙７についても行の追加やリンクの設定が必要になります。"]

{"sheet":"分電盤台帳 別紙8-2","index":2,"n_rows":43,"n_cols":49,"rows_kept":43,"cut":false,"hidden":false,"merged":[[1,40,1,43]]}
[null,null,null,null,null,null,"別表５",null,"別表６",null,null,null,null,null,null,null,null,null,null,null,null,null,"別表７","別表１",null,null,null,null,null,null,null,null,null,"別表２","別表３","別表４",null,null,null,"別表８"]
["年度\n官民\n番号","整理\n番号","分電盤\n番号","年度","事業\n区分","事業名","原因","文書番号","維持担当\n事務所","路線名","交差点名","区名","町名","丁目","番地","家名\n目標物","引継\n年月日","引継の相手方","寄付の\n相手方","寄付\n年月日","分電盤\nメータ番号","電力引込\n電柱番号","料金\n区分","施設\n区分","分電盤\n形式","メーカー名","製造番号","製造\n年月","定格\n電圧","定格\n電流","相線式\nφ","相線式\nW","分電盤\n塗装種別","分電盤\n設置\n箇所","分電盤\n地際部\n状況","分電盤\n基礎種別","設置\n年月日","移設\n年月日","廃灯\n年月日","関電営業所","門標番号",null,null,null,"集約\n番号","電気業者名","緯度","経度","備考"]
[null,1,"00-100",2022,"民間","（仮称）〇〇開発","引継",null,"中部建設","〇〇28号線",null,"中央区","加納町","６丁目","5-1",null,null,"（株）〇〇開発",null,null,12345,"ｶﾉｳﾁｮｳ６","従量","独立","〇〇-1","□□電気設備","E-123","2022/3","200/100",50,1,3,"塗装","歩道","As舗装","舗装埋設型","2022-04-01",null,null,"神戸営業所","03","45","1234","567890",null,"(有)〇〇電気",34.123456779999998,135.12345678,"○○交番前"]
[null,2,"00-101",2023,"民間","（仮称）〇〇開発","引継",null,"中部建設","〇〇29号線","加納町６丁目","中央区","加納町","６丁目","5-2",null,null,"（株）〇〇開発",null,null,12345,"ｶﾉｳﾁｮｳ７","従量","添架","〇〇-2","〇〇システム","E-124","2022/4","200/100",50,1,3,"塗装",null,null,null,"2022-04-01",null,null,"神戸営業所","03","45","1234","567891",null,"(有)〇〇電気"]
[]
[]
[]
[]
[]
[]
[]
[]
[]
[]
[]
[]
[]
[]
[]
[]
[]
[]
[]
[null,"記入例"]
[null,1,"00-100",2022,"民間","○○区画整理","引継",null,"西部建設","○○号線",null,"長田区","水笠通","6丁目","3-2",null,null,"□局 □課",null,null,null,"ﾐｽﾞｶﾞｻ17E2W3","従量","独立","分電盤","○○電工","K161210-01","2020/10","200/100",20,1,2,"塗装","歩道","As舗装","舗装埋設型","2005-10-11",null,null,"神戸営業所","03","45","1234","567890",null,"○○電機商会",34.870657430000001,135.87140492]
[null,2,"01-101",2023,"公共","（仮称）○○開発","寄贈",null,"西建設",null,null,"西区",null,null,null,null,null,"（株）○○神戸支店",null,null,null,null,null,"添架"]
[]
["＜入力リスト＞"]
[null,null,null,null,"公共",null,"新設",null,"東部建設",null,null,"東灘区",null,null,null,null,null,null,null,null,null,null,"定額","独立",null,null,null,null,null,null,null,null,"塗装","歩道","As舗装","舗装埋設型",null,null,null,"神戸営業所"]
[null,null,null,null,"民間",null,"引継",null,"中部建設",null,null,"灘区",null,null,null,null,null,null,null,null,null,null,"従量","添架",null,null,null,null,null,null,null,null,"亜鉛メッキ","車道","Co舗装","土砂埋設型",null,null,null,"明石営業所"]
[null,null,null,null,null,null,"寄贈",null,"西部建設",null,null,"中央区",null,null,null,null,null,null,null,null,null,null,null,null,null,null,null,null,null,null,null,null,"亜鉛メッキ+塗装","中央","Br舗装","基礎露出型",null,null,null,"加古川営業所"]
[null,null,null,null,null,null,null,null,"垂水建設",null,null,"兵庫区",null,null,null,null,null,null,null,null,null,null,null,null,null,null,null,null,null,null,null,null,null,"車道外","植栽帯",null,null,null,null,"三田営業所"]
[null,null,null,null,null,null,null,null,"西建設",null,null,"北区",null,null,null,null,null,null,null,null,null,null,null,null,null,null,null,null,null,null,null,null,null,"橋梁","法面・路肩"]
[null,null,null,null,null,null,null,null,"北建設",null,null,"長田区",null,null,null,null,null,null,null,null,null,null,null,null,null,null,null,null,null,null,null,null,null,"その他","橋梁・高欄"]
[null,null,null,null,null,null,null,null,null,null,null,"須磨区",null,null,null,null,null,null,null,null,null,null,null,null,null,null,null,null,null,null,null,null,null,null,"その他"]
[null,null,null,null,null,null,null,null,null,null,null,"垂水区"]
[null,null,null,null,null,null,null,null,null,null,null,"西区"]
[null,"（凡　例）"]
[null,null,null," ： 記入不要。"]
[null,"データの入力",null," ： １行に１灯分のデータを入力する。セルの結合は厳禁。"]
[null,"入力リスト",null," ： リストに表示がある場合はプルダウンメニューから選択する。"]
[null,"行数の追加",null," ： 入力行数が不足する場合は、行の範囲内で ”行の挿入” 操作によって追加する。（ドロップダウンリストが保持される）"]
[null,null,null,"　　ただし、別紙７についても行の追加やリンクの設定が必要になります。"]

{"sheet":"照明灯 別紙３-1","index":3,"n_rows":22,"n_cols":31,"rows_kept":22,"cut":false,"hidden":false,"merged":[[14,7,15,12],[18,4,18,5],[14,20,14,21],[14,18,14,19],[14,13,14,14],[16,8,21,8],[14,1,15,4],[16,1,17,3],[18,1,19,3],[20,1,21,3],[17,4,17,7],[19,4,19,7],[21,4,21,7],[15,13,15,15],[15,18,15,19],[16,13,16,14],[4,1,5,4],[4,5,4,9],[4,10,4,16],[4,17,7,17],[4,18,5,21],[6,1,7,4],[6,5,6,9],[6,10,6,16],[6,18,7,21],[7,10,7,16],[5,14,5,16],[5,12,5,13],[5,6,5,7],[7,6,7,7],[8,1,9,4],[8,7,9,7],[8,10,9,10],[8,11,9,13],[8,14,9,16],[12,1,13,4],[12,5,13,7],[12,8,13,12],[10,1,11,4],[10,5,11,7],[10,8,11,10],[10,11,11,13],[12,13,12,14],[2,1,3,1],[2,2,3,2],[2,3,3,3],[2,13,2,14],[2,5,2,6],[2,7,2,12],[3,5,3,7],[3,8,3,9],[3,11,3,12],[1,15,1,18],[1,19,1,21],[3,13,3,14],[3,15,3,21],[2,15,2,21],[8,17,9,21],[10,17,11,21],[10,14,11,16],[13,18,13,19],[13,20,13,21],[16,15,16,21],[15,20,15,21],[12,15,12,21],[13,13,13,14],[17,14,21,21]]}
[]
[null,"照明灯台帳（個表）",null,null,null,null,null,null,null,null,null,null,null,null,null,"整理番号",null,null,null,{"$f":"IF(ISBLANK(VLOOKUP($Z$2,'照明灯台帳 別紙8-1'!$B$3:$BI$32,12)),\"\",VLOOKUP($Z$2,'照明灯台帳 別紙8-1'!$B$3:$BI$32,12))","v":2},null,null,null,null,"整理番号",2,null,"印刷範囲",1,"～",2]
[null,"年　度",{"$f":"IF(ISBLANK(VLOOKUP($Z$2,'照明灯台帳 別紙8-1'!$B$3:$BI$32,2)),\"\",VLOOKUP($Z$2,'照明灯台帳 別紙8-1'!$B$3:$BI$32,2))","v":2023},"区　分",{"$f":"IF(ISBLANK(VLOOKUP($Z$2,'照明灯台帳 別紙8-1'!$B$3:$BI$32,5)),\"\",VLOOKUP($Z$2,'照明灯台帳 別紙8-1'!$B$3:$BI$32,5))","v":"引継"},"事業名",null,{"$f":"IF(ISBLANK(VLOOKUP($Z$2,'照明灯台帳 別紙8-1'!$B$3:$BI$32,4)),\"\",VLOOKUP($Z$2,'照明灯台帳 別紙8-1'!$B$3:$BI$32,4))","v":"〇〇土地区画整理"},null,null,null,null,null,"維持担当事務所",null,{"$f":"IF(ISBLANK(VLOOKUP($Z$2,'照明灯台帳 別紙8-1'!$B$3:$BI$32,7)),\"\",VLOOKUP($Z$2,'照明灯台帳 別紙8-1'!$B$3:$BI$32,7))","v":"中部建設"}]
[null,null,null,null,{"$f":"IF(ISBLANK(VLOOKUP($Z$2,'照明灯台帳 別紙8-1'!$B$3:$BI$32,31)),\"\",VLOOKUP($Z$2,'照明灯台帳 別紙8-1'!$B$3:$BI$32,31))","v":"連続"},"　連続の場合",null,null,{"$f":"IF(ISBLANK(VLOOKUP($Z$2,'照明灯台帳 別紙8-1'!$B$3:$BI$32,32)),\"\",VLOOKUP($Z$2,'照明灯台帳 別紙8-1'!$B$3:$BI$32,32))","v":7},null,"灯のうち　No",{"$f":"IF(ISBLANK(VLOOKUP($Z$2,'照明灯台帳 別紙8-1'!$B$3:$BI$32,33)),\"\",VLOOKUP($Z$2,'照明灯台帳 別紙8-1'!$B$3:$BI$32,33))","v":1},null,"分電盤番号",null,{"$f":"IF(ISBLANK(VLOOKUP($Z$2,'照明灯台帳 別紙8-1'!$B$3:$BI$32,34)),\"\",VLOOKUP($Z$2,'照明灯台帳 別紙8-1'!$B$3:$BI$32,34))","v":"10-100"}]
[null,"路　　　線　　　名",null,null,null,{"$f":"IF(ISBLANK(VLOOKUP($Z$2,'照明灯台帳 別紙8-1'!$B$3:$BI$32,14)),\"\",VLOOKUP($Z$2,'照明灯台帳 別紙8-1'!$B$3:$BI$32,14))","v":"〇〇29号線"},null,null,null,null,"　設置場所（住居表示）",null,null,null,null,null,null,"管理番号",{"$f":"IF(ISBLANK(VLOOKUP($Z$2,'照明灯台帳 別紙8-1'!$B$3:$BI$32,13)),\"\",VLOOKUP($Z$2,'照明灯台帳 別紙8-1'!$B$3:$BI$32,13))","v":"6-6602"}]
[null,null,null,null,null,"（",{"$f":"IF(ISBLANK(VLOOKUP($Z$2,'照明灯台帳 別紙8-1'!$B$3:$BI$32,15)),\"\",VLOOKUP($Z$2,'照明灯台帳 別紙8-1'!$B$3:$BI$32,15))","v":""},null,null,"交差点）　",{"$f":"IF(ISBLANK(VLOOKUP($Z$2,'照明灯台帳 別紙8-1'!$B$3:$BI$32,16)),\"\",VLOOKUP($Z$2,'照明灯台帳 別紙8-1'!$B$3:$BI$32,16))","v":"中央区"},{"$f":"IF(ISBLANK(VLOOKUP($Z$2,'照明灯台帳 別紙8-1'!$B$3:$BI$32,17)),\"\",VLOOKUP($Z$2,'照明灯台帳 別紙8-1'!$B$3:$BI$32,17))","v":"加納町"},{"$f":"IF(ISBLANK(VLOOKUP($Z$2,'照明灯台帳 別紙8-1'!$B$3:$BI$32,18)),\"\",VLOOKUP($Z$2,'照明灯台帳 別紙8-1'!$B$3:$BI$32,18))","v":"7丁目"},null,{"$f":"IF(ISBLANK(VLOOKUP($Z$2,'照明灯台帳 別紙8-1'!$B$3:$BI$32,19)),\"\",VLOOKUP($Z$2,'照明灯台帳 別紙8-1'!$B$3:$BI$32,19))","v":"5-2"}]
[null,"移　　　設　　　先",null,null,null,null,null,null,null,null,"　設置場所（住居表示）"]
[null,null,null,null,null,"（",null,null,null,"交差点）　"]
[null,"設  置  年  月  日",null,null,null,"〇","引継","　年月日","●","引継","　の相手方","移設年月日",null,null,"廃灯年月日",null,null,"定額・メーター別"]
[null,null,null,null,null,"〇","寄贈",null,"〇","寄贈"]
[null,{"$f":"IF(ISBLANK(VLOOKUP($Z$2,'照明灯台帳 別紙8-1'!$B$3:$BI$32,48)),\"\",VLOOKUP($Z$2,'照明灯台帳 別紙8-1'!$B$3:$BI$32,48))","v":"2022-10-11"},null,null,null,{"$f":"IF(ISBLANK(VLOOKUP($Z$2,'照明灯台帳 別紙8-1'!$B$3:$BI$32,9)),\"\",VLOOKUP($Z$2,'照明灯台帳 別紙8-1'!$B$3:$BI$32,9))","v":""},null,null,{"$f":"IF(ISBLANK(VLOOKUP($Z$2,'照明灯台帳 別紙8-1'!$B$3:$BI$32,8)),\"\",VLOOKUP($Z$2,'照明灯台帳 別紙8-1'!$B$3:$BI$32,8))","v":"〇〇公社"},null,null,null,null,null,null,null,null,{"$f":"IF(ISBLANK(VLOOKUP($Z$2,'照明灯台帳 別紙8-1'!$B$3:$BI$32,29)),\"\",VLOOKUP($Z$2,'照明灯台帳 別紙8-1'!$B$3:$BI$32,29))","v":"定額"}]
[]
[null,"灯　種　区　分",null,null,null,{"$f":"IF(ISBLANK(VLOOKUP($Z$2,'照明灯台帳 別紙8-1'!$B$3:$BI$32,22)),\"\",VLOOKUP($Z$2,'照明灯台帳 別紙8-1'!$B$3:$BI$32,22))","v":"LED灯"},null,null,{"$f":"IF(ISBLANK(VLOOKUP($Z$2,'照明灯台帳 別紙8-1'!$B$3:$BI$32,23)),\"\",VLOOKUP($Z$2,'照明灯台帳 別紙8-1'!$B$3:$BI$32,23))","v":"18.6VA"},null,null,null,null,"関電営業所名",null,"門　標　番　号"]
[null,null,null,null,null,null,null,null,null,null,null,null,null,null,null,"（旧）"]
[null,"引込電柱番号",null,null,null,null,null,{"$f":"IF(ISBLANK(VLOOKUP($Z$2,'照明灯台帳 別紙8-1'!$B$3:$BI$32,39)),\"\",VLOOKUP($Z$2,'照明灯台帳 別紙8-1'!$B$3:$BI$32,39))","v":"ｶﾉｳﾁｮｳ5E4"},null,null,null,null,null,{"$f":"IF(ISBLANK(VLOOKUP($Z$2,'照明灯台帳 別紙8-1'!$B$3:$BI$32,51)),\"\",VLOOKUP($Z$2,'照明灯台帳 別紙8-1'!$B$3:$BI$32,51))","v":"神戸営業所"},null,"（新）",{"$f":"IF(ISBLANK(VLOOKUP($Z$2,'照明灯台帳 別紙8-1'!$B$3:$BI$32,52)),\"\",VLOOKUP($Z$2,'照明灯台帳 別紙8-1'!$B$3:$BI$32,52))","v":"03"},{"$f":"IF(ISBLANK(VLOOKUP($Z$2,'照明灯台帳 別紙8-1'!$B$3:$BI$32,53)),\"\",VLOOKUP($Z$2,'照明灯台帳 別紙8-1'!$B$3:$BI$32,53))","v":"45"},{"$f":"IF(ISBLANK(VLOOKUP($Z$2,'照明灯台帳 別紙8-1'!$B$3:$BI$32,54)),\"\",VLOOKUP($Z$2,'照明灯台帳 別紙8-1'!$B$3:$BI$32,54))","v":"1234"},null,{"$f":"IF(ISBLANK(VLOOKUP($Z$2,'照明灯台帳 別紙8-1'!$B$3:$BI$32,55)),\"\",VLOOKUP($Z$2,'照明灯台帳 別紙8-1'!$B$3:$BI$32,55))","v":"567891"}]
[null,null,null,null,null,null,null,null,null,null,null,null,null,"　　集　約　番　号"]
[null,"目　的",null,null,null,{"$f":"IF(ISBLANK(VLOOKUP($Z$2,'照明灯台帳 別紙8-1'!$B$3:$BI$32,35)),\"\",VLOOKUP($Z$2,'照明灯台帳 別紙8-1'!$B$3:$BI$32,35))","v":"道路"},null,null,"備　　考","　使用電圧：",null,{"$f":"IF(ISBLANK(VLOOKUP($Z$2,'照明灯台帳 別紙8-1'!$B$3:$BI$32,41)),\"\",VLOOKUP($Z$2,'照明灯台帳 別紙8-1'!$B$3:$BI$32,41))","v":100},"V","備　　考：",null,{"$f":"IF(ISBLANK(VLOOKUP($Z$2,'照明灯台帳 別紙8-1'!$B$3:$BI$32,60)),\"\",VLOOKUP($Z$2,'照明灯台帳 別紙8-1'!$B$3:$BI$32,60))","v":"ｶｯﾄﾙｰﾊﾞ付"}]
[null,null,null,null,"その他の場合（　　　　　　　　　　　　）",null,null,null,null,"　灯具：",null,{"$f":"IF(ISBLANK(VLOOKUP($Z$2,'照明灯台帳 別紙8-1'!$B$3:$BI$32,40)),\"\",VLOOKUP($Z$2,'照明灯台帳 別紙8-1'!$B$3:$BI$32,40))","v":"NNY20383LE7"}]
[null,"独立柱",null,null,{"$f":"IF(ISBLANK(VLOOKUP($Z$2,'照明灯台帳 別紙8-1'!$B$3:$BI$32,36)),\"\",VLOOKUP($Z$2,'照明灯台帳 別紙8-1'!$B$3:$BI$32,36))","v":""},null,{"$f":"IF(ISBLANK(VLOOKUP($Z$2,'照明灯台帳 別紙8-1'!$B$3:$BI$32,37)),\"\",VLOOKUP($Z$2,'照明灯台帳 別紙8-1'!$B$3:$BI$32,37))","v":""},null,null,"　灯柱：",null,{"$f":"IF(ISBLANK(VLOOKUP($Z$2,'照明灯台帳 別紙8-1'!$B$3:$BI$32,43)),\"\",VLOOKUP($Z$2,'照明灯台帳 別紙8-1'!$B$3:$BI$32,43))","v":""}]
[null,null,null,null,"その他の場合（　　　　　　　　　　　　）",null,null,null,null,"　施工業者名：",null,{"$f":"IF(ISBLANK(VLOOKUP($Z$2,'照明灯台帳 別紙8-1'!$B$3:$BI$32,57)),\"\",VLOOKUP($Z$2,'照明灯台帳 別紙8-1'!$B$3:$BI$32,57))","v":"〇〇電気(有)"}]
[null,"添架柱",null,null,null,{"$f":"IF(ISBLANK(VLOOKUP($Z$2,'照明灯台帳 別紙8-1'!$B$3:$BI$32,38)),\"\",VLOOKUP($Z$2,'照明灯台帳 別紙8-1'!$B$3:$BI$32,38))","v":"関電柱"},null,null,null,"　工事費：",null,"記入不要"]
[null,null,null,null,"その他の場合（　　　　　　　　　　　　）",null,null,null,null,"　電源装置の種類：　",null,{"$f":"IF(ISBLANK(VLOOKUP($Z$2,'照明灯台帳 別紙8-1'!$B$3:$BI$32,42)),\"\",VLOOKUP($Z$2,'照明灯台帳 別紙8-1'!$B$3:$BI$32,42))","v":""}]

{"sheet":"照明灯 別紙３-２","index":4,"n_rows":44,"n_cols":22,"rows_kept":44,"cut":false,"hidden":false,"merged":[]}
[]
[null,null,null,null,null,null,null,null,null,null,null,null,null,null,null,null,null,null,null,null,null,"整理番号□□　"]
[]
[]
[]
[]
[]
[]
[]
[]
[]
[]
[]
[]
[]
[]
[]
[]
[]
[]
[]
[]
[]
[]
[]
[]
[]
[]
[]
[]
[]
[]
[]
[]
[]
[]
[]
[]
[]
[]
[]
[]
[]
[null,null,null,null,null,null,null,null,null,null,null,null,null,null,null,null,null,null,null,null,null,"整理番号□□　"]

{"sheet":"分電盤 別紙５-1","index":5,"n_rows":24,"n_cols":31,"rows_kept":24,"cut":false,"hidden":false,"merged":[[1,15,1,18],[1,19,1,21],[2,1,3,1],[2,2,3,2],[2,3,3,3],[2,4,3,4],[2,5,3,6],[2,7,3,12],[2,13,3,14],[2,15,3,21],[4,1,5,4],[4,5,4,9],[4,10,4,16],[4,17,7,17],[4,18,5,21],[6,1,7,4],[6,5,6,9],[6,10,6,16],[5,12,5,13],[5,14,5,16],[5,6,5,7],[7,6,7,7],[10,17,11,21],[6,18,7,21],[7,10,7,16],[8,1,9,4],[8,7,9,7],[8,10,9,10],[8,11,9,13],[8,14,9,16],[8,17,9,21],[10,1,11,4],[10,5,11,7],[10,8,11,10],[10,11,11,13],[10,14,11,16],[12,1,15,1],[12,2,13,4],[12,13,12,14],[12,15,12,21],[13,13,13,14],[14,2,15,4],[15,13,15,15],[12,6,13,12],[14,6,15,12],[14,18,14,19],[14,20,14,21],[13,18,13,19],[13,20,13,21],[15,18,15,19],[15,20,15,21],[14,13,14,14],[16,1,23,1],[16,2,16,4],[16,13,23,13],[17,2,17,4],[20,2,20,4],[18,2,18,4],[19,2,19,4],[21,2,21,4],[22,2,22,4],[23,2,23,4]]}
[]
[null,"分電盤台帳（個表）",null,null,null,null,null,null,null,null,null,null,null,null,null,"整理番号",null,null,null,{"$f":"IF(ISBLANK(VLOOKUP($Z$2,'分電盤台帳 別紙8-2'!$B$3:$AT$22,1)),\"\",VLOOKUP($Z$2,'分電盤台帳 別紙8-2'!$B$3:$AT$22,1))","v":2},null,null,null,null,"整理番号",2,null,"印刷範囲",1,"～",2]
[null,"年度",{"$f":"IF(ISBLANK(VLOOKUP($Z$2,'分電盤台帳 別紙8-2'!$B$3:$AT$22,3)),\"\",VLOOKUP($Z$2,'分電盤台帳 別紙8-2'!$B$3:$AT$22,3))","v":2023},"区分",{"$f":"IF(ISBLANK(VLOOKUP($Z$2,'分電盤台帳 別紙8-2'!$B$3:$AT$22,6)),\"\",VLOOKUP($Z$2,'分電盤台帳 別紙8-2'!$B$3:$AT$22,6))","v":"引継"},"事業名",null,{"$f":"IF(ISBLANK(VLOOKUP($Z$2,'分電盤台帳 別紙8-2'!$B$3:$AT$22,5)),\"\",VLOOKUP($Z$2,'分電盤台帳 別紙8-2'!$B$3:$AT$22,5))","v":"（仮称）〇〇開発"},null,null,null,null,null,"維持担当事務所",null,{"$f":"IF(ISBLANK(VLOOKUP($Z$2,'分電盤台帳 別紙8-2'!$B$3:$AT$22,8)),\"\",VLOOKUP($Z$2,'分電盤台帳 別紙8-2'!$B$3:$AT$22,8))","v":"中部建設"}]
[]
[null,"路　　　線　　　名",null,null,null,{"$f":"IF(ISBLANK(VLOOKUP($Z$2,'分電盤台帳 別紙8-2'!$B$3:$AT$22,9)),\"\",VLOOKUP($Z$2,'分電盤台帳 別紙8-2'!$B$3:$AT$22,9))","v":"〇〇29号線"},null,null,null,null,"　設置場所（住居表示）",null,null,null,null,null,null,"管理番号",{"$f":"IF(ISBLANK(VLOOKUP($Z$2,'分電盤台帳 別紙8-2'!$B$3:$AT$22,2)),\"\",VLOOKUP($Z$2,'分電盤台帳 別紙8-2'!$B$3:$AT$22,2))","v":"00-101"}]
[null,null,null,null,null,"（",{"$f":"IF(ISBLANK(VLOOKUP($Z$2,'分電盤台帳 別紙8-2'!$B$3:$AT$22,10)),\"\",VLOOKUP($Z$2,'分電盤台帳 別紙8-2'!$B$3:$AT$22,10))","v":"加納町６丁目"},null,null,"交差点）　",{"$f":"IF(ISBLANK(VLOOKUP($Z$2,'分電盤台帳 別紙8-2'!$B$3:$AT$22,11)),\"\",VLOOKUP($Z$2,'分電盤台帳 別紙8-2'!$B$3:$AT$22,11))","v":"中央区"},{"$f":"IF(ISBLANK(VLOOKUP($Z$2,'分電盤台帳 別紙8-2'!$B$3:$AT$22,12)),\"\",VLOOKUP($Z$2,'分電盤台帳 別紙8-2'!$B$3:$AT$22,12))","v":"加納町"},{"$f":"IF(ISBLANK(VLOOKUP($Z$2,'分電盤台帳 別紙8-2'!$B$3:$AT$22,13)),\"\",VLOOKUP($Z$2,'分電盤台帳 別紙8-2'!$B$3:$AT$22,13))","v":"６丁目"},null,{"$f":"IF(ISBLANK(VLOOKUP($Z$2,'分電盤台帳 別紙8-2'!$B$3:$AT$22,14)),\"\",VLOOKUP($Z$2,'分電盤台帳 別紙8-2'!$B$3:$AT$22,14))","v":"5-2"}]
[null,"移　　　設　　　先",null,null,null,null,null,null,null,null,"　設置場所（住居表示）"]
[null,null,null,null,null,"（",null,null,null,"交差点）　"]
[null,"設  置  年  月  日",null,null,null,"〇","引継","　年月日","●","引継","　の相手方","移設年月日",null,null,"廃灯年月日",null,null,"定額・メーター別"]
[null,null,null,null,null,"〇","寄贈",null,"〇","寄贈"]
[null,{"$f":"IF(ISBLANK(VLOOKUP($Z$2,'分電盤台帳 別紙8-2'!$B$3:$AT$22,36)),\"\",VLOOKUP($Z$2,'分電盤台帳 別紙8-2'!$B$3:$AT$22,36))","v":"2022-04-01"},null,null,null,null,null,null,{"$f":"IF(ISBLANK(VLOOKUP($Z$2,'分電盤台帳 別紙8-2'!$B$3:$AT$22,17)),\"\",VLOOKUP($Z$2,'分電盤台帳 別紙8-2'!$B$3:$AT$22,17))","v":"（株）〇〇開発"},null,null,null,null,null,null,null,null,{"$f":"IF(ISBLANK(VLOOKUP($Z$2,'分電盤台帳 別紙8-2'!$B$3:$AT$22,22)),\"\",VLOOKUP($Z$2,'分電盤台帳 別紙8-2'!$B$3:$AT$22,22))","v":"従量"}]
[]
[null,"電　力","引込電柱番号",null,null,null,{"$f":"IF(ISBLANK(VLOOKUP($Z$2,'分電盤台帳 別紙8-2'!$B$3:$AT$22,21)),\"\",VLOOKUP($Z$2,'分電盤台帳 別紙8-2'!$B$3:$AT$22,21))","v":"ｶﾉｳﾁｮｳ７"},null,null,null,null,null,null,"関電営業所名",null,"門　標　番　号"]
[null,null,null,null,null,null,null,null,null,null,null,null,null,null,null,"（旧）"]
[null,null,"電力メーター番号",null,null,null,{"$f":"IF(ISBLANK(VLOOKUP($Z$2,'分電盤台帳 別紙8-2'!$B$3:$AT$22,20)),\"\",VLOOKUP($Z$2,'分電盤台帳 別紙8-2'!$B$3:$AT$22,20))","v":12345},null,null,null,null,null,null,{"$f":"IF(ISBLANK(VLOOKUP($Z$2,'分電盤台帳 別紙8-2'!$B$3:$AT$22,39)),\"\",VLOOKUP($Z$2,'分電盤台帳 別紙8-2'!$B$3:$AT$22,39))","v":"神戸営業所"},null,"（新）",{"$f":"IF(ISBLANK(VLOOKUP($Z$2,'分電盤台帳 別紙8-2'!$B$3:$AT$22,40)),\"\",VLOOKUP($Z$2,'分電盤台帳 別紙8-2'!$B$3:$AT$22,40))","v":"03"},{"$f":"IF(ISBLANK(VLOOKUP($Z$2,'分電盤台帳 別紙8-2'!$B$3:$AT$22,41)),\"\",VLOOKUP($Z$2,'分電盤台帳 別紙8-2'!$B$3:$AT$22,41))","v":"45"},{"$f":"IF(ISBLANK(VLOOKUP($Z$2,'分電盤台帳 別紙8-2'!$B$3:$AT$22,42)),\"\",VLOOKUP($Z$2,'分電盤台帳 別紙8-2'!$B$3:$AT$22,42))","v":"1234"},null,{"$f":"IF(ISBLANK(VLOOKUP($Z$2,'分電盤台帳 別紙8-2'!$B$3:$AT$22,43)),\"\",VLOOKUP($Z$2,'分電盤台帳 別紙8-2'!$B$3:$AT$22,43))","v":"567891"}]
[null,null,null,null,null,null,null,null,null,null,null,null,null,"　　 集　約　番　号"]
[null,"分　電　盤","分電盤形式",null,null,null,{"$f":"IF(ISBLANK(VLOOKUP($Z$2,'分電盤台帳 別紙8-2'!$B$3:$AT$22,24)),\"\",VLOOKUP($Z$2,'分電盤台帳 別紙8-2'!$B$3:$AT$22,24))","v":"〇〇-2"},null,null,null,null,null,null,"備　　考"," タイプ"]
[null,null,"メーカー名",null,null,null,{"$f":"IF(ISBLANK(VLOOKUP($Z$2,'分電盤台帳 別紙8-2'!$B$3:$AT$22,25)),\"\",VLOOKUP($Z$2,'分電盤台帳 別紙8-2'!$B$3:$AT$22,25))","v":"〇〇システム"}]
[null,null,"製 造 番 号",null,null,null,{"$f":"IF(ISBLANK(VLOOKUP($Z$2,'分電盤台帳 別紙8-2'!$B$3:$AT$22,26)),\"\",VLOOKUP($Z$2,'分電盤台帳 別紙8-2'!$B$3:$AT$22,26))","v":"E-124"},null,null,null,null,null,null,null," 工事費","記入不要"]
[null,null,"製 造 年 月",null,null,null,{"$f":"IF(ISBLANK(VLOOKUP($Z$2,'分電盤台帳 別紙8-2'!$B$3:$AT$22,27)),\"\",VLOOKUP($Z$2,'分電盤台帳 別紙8-2'!$B$3:$AT$22,27))","v":"2022/4"}]
[null,null,"定格電圧（V）",null,null,null,{"$f":"IF(ISBLANK(VLOOKUP($Z$2,'分電盤台帳 別紙8-2'!$B$3:$AT$22,28)),\"\",VLOOKUP($Z$2,'分電盤台帳 別紙8-2'!$B$3:$AT$22,28))","v":"200/100"},null,null,null,null,null,null,null," 施工業者名",{"$f":"IF(ISBLANK(VLOOKUP($Z$2,'分電盤台帳 別紙8-2'!$B$3:$AT$22,45)),\"\",VLOOKUP($Z$2,'分電盤台帳 別紙8-2'!$B$3:$AT$22,45))","v":"(有)〇〇電気"}]
[null,null,"定格電流（A）",null,null,null,{"$f":"IF(ISBLANK(VLOOKUP($Z$2,'分電盤台帳 別紙8-2'!$B$3:$AT$22,29)),\"\",VLOOKUP($Z$2,'分電盤台帳 別紙8-2'!$B$3:$AT$22,29))","v":50}]
[null,null,"相   線   式",null,null,null,{"$f":"IF(ISBLANK(VLOOKUP($Z$2,'分電盤台帳 別紙8-2'!$B$3:$AT$22,30)),\"\",VLOOKUP($Z$2,'分電盤台帳 別紙8-2'!$B$3:$AT$22,30))","v":1},"φ",null,{"$f":"IF(ISBLANK(VLOOKUP($Z$2,'分電盤台帳 別紙8-2'!$B$3:$AT$22,31)),\"\",VLOOKUP($Z$2,'分電盤台帳 別紙8-2'!$B$3:$AT$22,31))","v":3},"ｗ",null,null,null," その他",{"$f":"IF(ISBLANK(VLOOKUP($Z$2,'分電盤台帳 別紙8-2'!$B$3:$AW$22,48)),\"\",VLOOKUP($Z$2,'分電盤台帳 別紙8-2'!$B$3:$AW$22,48))","v":""}]
[null,null,"施 設 区 分",null,null,null,{"$f":"IF(ISBLANK(VLOOKUP($Z$2,'分電盤台帳 別紙8-2'!$B$3:$AT$22,23)),\"\",VLOOKUP($Z$2,'分電盤台帳 別紙8-2'!$B$3:$AT$22,23))","v":"添架"}]

{"sheet":"分電盤 別紙５-2","index":6,"n_rows":4,"n_cols":23,"rows_kept":4,"cut":false,"hidden":false,"merged":[]}
[]
[]
[]
[null,null,null,null,null,null,null,null,null,null,null,null,null,null,null,null,null,null,null,null,null,null,"整理番号□□ "]

{"sheet":"照明灯一覧 別紙７","index":7,"n_rows":45,"n_cols":64,"rows_kept":45,"cut":false,"hidden":false,"merged":[[1,52,1,55],[32,12,32,13]]}
[null,null,null,null,null,"別表７",null,"別表９",null,null,null,null,null,null,null,null,null,null,null,null,null,"別表２",null,null,null,null,null,null,null,"別表１０",null,"別表８",null,null,null,"別表１３","別表１４","別表１５","別表１６",null,null,null,null,null,"別表３","別表４","別表５","別表６"]
[null,"年度\n官民\n番号","年度","事業\n区分","事業名","原因","文書\n番号","維持担当\n事務所","引継の\n相手方","引継\n年月日","寄付の\n相手方","寄付\n年月日","整理\n番号","管理\n番号","路線名","交差点名","区名","町名","丁目","番地","家名\n目標物","照明区分","灯種\n区分","容量","灯数1","容量2","灯数2","容量3","灯数3","料金\n区分","設置\n区分","照明灯\n形体","連続\n照明時\n灯数","連続\n照明時\n番号","分電盤番号","設置区分\n目的","独立柱\n材質","独立柱\n形体","添架電柱","引込電柱番号","灯具","使用\n電圧","安定器又は\n制御装置の\n種類","灯柱","照明柱\n塗装種別","照明柱\n設置箇所","照明柱\n地際部状況","照明柱\n基礎種別","設置\n年月日","移設\n年月日","廃灯\n年月日","関電営業所","門標番号",null,null,null,"集約\n番号","電気業者名","緯度","経度","備考",null,null,"※別紙８のデータを参照しています"]
[null,null,2022,"民間","〇〇開発","引継",null,"西建設","（株）〇〇",null,null,null,{"$f":"'照明灯台帳 別紙8-1'!M3","v":1},{"$f":"'照明灯台帳 別紙8-1'!N3","v":"6-6601"},{"$f":"'照明灯台帳 別紙8-1'!O3","v":"〇〇28号線"},null,{"$f":"'照明灯台帳 別紙8-1'!Q3","v":"中央区"},{"$f":"'照明灯台帳 別紙8-1'!R3","v":"加納町"},{"$f":"'照明灯台帳 別紙8-1'!S3","v":"6丁目"},{"$f":"'照明灯台帳 別紙8-1'!T3","v":"5-1"},null,"防犯灯",{"$f":"'照明灯台帳 別紙8-1'!W3","v":"LED灯"},{"$f":"'照明灯台帳 別紙8-1'!X3","v":"9.2VA"},1,null,null,null,null,"定額",{"$f":"'照明灯台帳 別紙8-1'!AE3","v":"独立"},"単独",null,null,null,"道路","鉄柱","I型",null,{"$f":"'照明灯台帳 別紙8-1'!AN3","v":"ｶﾉｳﾁｮｳ5E3S1W2"},null,100,null,"防犯灯（H=5.5m）","亜鉛メッキ","車道","As舗装","舗装埋設型","2022-10-10",null,null,{"$f":"'照明灯台帳 別紙8-1'!AZ3","v":"神戸営業所"},{"$f":"'照明灯台帳 別紙8-1'!BA3","v":"03"},{"$f":"'照明灯台帳 別紙8-1'!BB3","v":"45"},{"$f":"'照明灯台帳 別紙8-1'!BC3","v":"1234"},{"$f":"'照明灯台帳 別紙8-1'!BD3","v":"567890"},null,"〇〇電気(有)",null,null,{"$f":"'照明灯台帳 別紙8-1'!BI3","v":"ﾎﾟｰﾙ名称,型式○○"}]
[null,null,null,null,null,null,null,null,null,null,null,null,{"$f":"'照明灯台帳 別紙8-1'!M4","v":2},{"$f":"'照明灯台帳 別紙8-1'!N4","v":"6-6602"},{"$f":"'照明灯台帳 別紙8-1'!O4","v":"〇〇29号線"},{"$f":"'照明灯台帳 別紙8-1'!P4","v":0},{"$f":"'照明灯台帳 別紙8-1'!Q4","v":"中央区"},{"$f":"'照明灯台帳 別紙8-1'!R4","v":"加納町"},{"$f":"'照明灯台帳 別紙8-1'!S4","v":"7丁目"},{"$f":"'照明灯台帳 別紙8-1'!T4","v":"5-2"},{"$f":"'照明灯台帳 別紙8-1'!U4","v":0},{"$f":"'照明灯台帳 別紙8-1'!V4","v":"防犯灯"},{"$f":"'照明灯台帳 別紙8-1'!W4","v":"LED灯"},{"$f":"'照明灯台帳 別紙8-1'!X4","v":"18.6VA"},{"$f":"'照明灯台帳 別紙8-1'!Y4","v":1},{"$f":"'照明灯台帳 別紙8-1'!Z4","v":0},{"$f":"'照明灯台帳 別紙8-1'!AA4","v":0},{"$f":"'照明灯台帳 別紙8-1'!AB4","v":0},{"$f":"'照明灯台帳 別紙8-1'!AC4","v":0},{"$f":"'照明灯台帳 別紙8-1'!AD4","v":"定額"},{"$f":"'照明灯台帳 別紙8-1'!AE4","v":"添架"},{"$f":"'照明灯台帳 別紙8-1'!AF4","v":"連続"},{"$f":"'照明灯台帳 別紙8-1'!AG4","v":7},{"$f":"'照明灯台帳 別紙8-1'!AH4","v":1},{"$f":"'照明灯台帳 別紙8-1'!AI4","v":"10-100"},{"$f":"'照明灯台帳 別紙8-1'!AJ4","v":"道路"},{"$f":"'照明灯台帳 別紙8-1'!AK4","v":0},{"$f":"'照明灯台帳 別紙8-1'!AL4","v":0},{"$f":"'照明灯台帳 別紙8-1'!AM4","v":"関電柱"},{"$f":"'照明灯台帳 別紙8-1'!AN4","v":"ｶﾉｳﾁｮｳ5E4"},{"$f":"'照明灯台帳 別紙8-1'!AO4","v":"NNY20383LE7"},{"$f":"'照明灯台帳 別紙8-1'!AP4","v":100},{"$f":"'照明灯台帳 別紙8-1'!AQ4","v":0},{"$f":"'照明灯台帳 別紙8-1'!AR4","v":0},{"$f":"'照明灯台帳 別紙8-1'!AS4","v":0},{"$f":"'照明灯台帳 別紙8-1'!AT4","v":0},{"$f":"'照明灯台帳 別紙8-1'!AU4","v":0},{"$f":"'照明灯台帳 別紙8-1'!AV4","v":0},{"$f":"'照明灯台帳 別紙8-1'!AW4","v":44845},{"$f":"'照明灯台帳 別紙8-1'!AX4","v":0},{"$f":"'照明灯台帳 別紙8-1'!AY4","v":0},{"$f":"'照明灯台帳 別紙8-1'!AZ4","v":"神戸営業所"},{"$f":"'照明灯台帳 別紙8-1'!BA4","v":"03"},{"$f":"'照明灯台帳 別紙8-1'!BB4","v":"45"},{"$f":"'照明灯台帳 別紙8-1'!BC4","v":"1234"},{"$f":"'照明灯台帳 別紙8-1'!BD4","v":"567891"},null,null,null,null,{"$f":"'照明灯台帳 別紙8-1'!BI4","v":"ｶｯﾄﾙｰﾊﾞ付"}]
[null,null,null,null,null,null,null,null,null,null,null,null,{"$f":"'照明灯台帳 別紙8-1'!M5","v":0},{"$f":"'照明灯台帳 別紙8-1'!N5","v":0},{"$f":"'照明灯台帳 別紙8-1'!O5","v":0},{"$f":"'照明灯台帳 別紙8-1'!P5","v":0},{"$f":"'照明灯台帳 別紙8-1'!Q5","v":0},{"$f":"'照明灯台帳 別紙8-1'!R5","v":0},{"$f":"'照明灯台帳 別紙8-1'!S5","v":0},{"$f":"'照明灯台帳 別紙8-1'!T5","v":0},{"$f":"'照明灯台帳 別紙8-1'!U5","v":0},{"$f":"'照明灯台帳 別紙8-1'!V5","v":0},{"$f":"'照明灯台帳 別紙8-1'!W5","v":0},{"$f":"'照明灯台帳 別紙8-1'!X5","v":0},{"$f":"'照明灯台帳 別紙8-1'!Y5","v":0},{"$f":"'照明灯台帳 別紙8-1'!Z5","v":0},{"$f":"'照明灯台帳 別紙8-1'!AA5","v":0},{"$f":"'照明灯台帳 別紙8-1'!AB5","v":0},{"$f":"'照明灯台帳 別紙8-1'!AC5","v":0},{"$f":"'照明灯台帳 別紙8-1'!AD5","v":0},{"$f":"'照明灯台帳 別紙8-1'!AE5","v":0},{"$f":"'照明灯台帳 別紙8-1'!AF5","v":0},{"$f":"'照明灯台帳 別紙8-1'!AG5","v":0},{"$f":"'照明灯台帳 別紙8-1'!AH5","v":0},{"$f":"'照明灯台帳 別紙8-1'!AI5","v":0},{"$f":"'照明灯台帳 別紙8-1'!AJ5","v":0},{"$f":"'照明灯台帳 別紙8-1'!AK5","v":0},{"$f":"'照明灯台帳 別紙8-1'!AL5","v":0},{"$f":"'照明灯台帳 別紙8-1'!AM5","v":0},{"$f":"'照明灯台帳 別紙8-1'!AN5","v":0},{"$f":"'照明灯台帳 別紙8-1'!AO5","v":0},{"$f":"'照明灯台帳 別紙8-1'!AP5","v":0},{"$f":"'照明灯台帳 別紙8-1'!AQ5","v":0},{"$f":"'照明灯台帳 別紙8-1'!AR5","v":0},{"$f":"'照明灯台帳 別紙8-1'!AS5","v":0},{"$f":"'照明灯台帳 別紙8-1'!AT5","v":0},{"$f":"'照明灯台帳 別紙8-1'!AU5","v":0},{"$f":"'照明灯台帳 別紙8-1'!AV5","v":0},{"$f":"'照明灯台帳 別紙8-1'!AW5","v":0},{"$f":"'照明灯台帳 別紙8-1'!AX5","v":0},{"$f":"'照明灯台帳 別紙8-1'!AY5","v":0},{"$f":"'照明灯台帳 別紙8-1'!AZ5","v":0},{"$f":"'照明灯台帳 別紙8-1'!BA5","v":0},{"$f":"'照明灯台帳 別紙8-1'!BB5","v":0},{"$f":"'照明灯台帳 別紙8-1'!BC5","v":0},{"$f":"'照明灯台帳 別紙8-1'!BD5","v":0},null,null,null,null,{"$f":"'照明灯台帳 別紙8-1'!BI5","v":0}]
[null,null,null,null,null,null,null,null,null,null,null,null,{"$f":"'照明灯台帳 別紙8-1'!M6","v":0},{"$f":"'照明灯台帳 別紙8-1'!N6","v":0},{"$f":"'照明灯台帳 別紙8-1'!O6","v":0},{"$f":"'照明灯台帳 別紙8-1'!P6","v":0},{"$f":"'照明灯台帳 別紙8-1'!Q6","v":0},{"$f":"'照明灯台帳 別紙8-1'!R6","v":0},{"$f":"'照明灯台帳 別紙8-1'!S6","v":0},{"$f":"'照明灯台帳 別紙8-1'!T6","v":0},{"$f":"'照明灯台帳 別紙8-1'!U6","v":0},{"$f":"'照明灯台帳 別紙8-1'!V6","v":0},{"$f":"'照明灯台帳 別紙8-1'!W6","v":0},{"$f":"'照明灯台帳 別紙8-1'!X6","v":0},{"$f":"'照明灯台帳 別紙8-1'!Y6","v":0},{"$f":"'照明灯台帳 別紙8-1'!Z6","v":0},{"$f":"'照明灯台帳 別紙8-1'!AA6","v":0},{"$f":"'照明灯台帳 別紙8-1'!AB6","v":0},{"$f":"'照明灯台帳 別紙8-1'!AC6","v":0},{"$f":"'照明灯台帳 別紙8-1'!AD6","v":0},{"$f":"'照明灯台帳 別紙8-1'!AE6","v":0},{"$f":"'照明灯台帳 別紙8-1'!AF6","v":0},{"$f":"'照明灯台帳 別紙8-1'!AG6","v":0},{"$f":"'照明灯台帳 別紙8-1'!AH6","v":0},{"$f":"'照明灯台帳 別紙8-1'!AI6","v":0},{"$f":"'照明灯台帳 別紙8-1'!AJ6","v":0},{"$f":"'照明灯台帳 別紙8-1'!AK6","v":0},{"$f":"'照明灯台帳 別紙8-1'!AL6","v":0},{"$f":"'照明灯台帳 別紙8-1'!AM6","v":0},{"$f":"'照明灯台帳 別紙8-1'!AN6","v":0},{"$f":"'照明灯台帳 別紙8-1'!AO6","v":0},{"$f":"'照明灯台帳 別紙8-1'!AP6","v":0},{"$f":"'照明灯台帳 別紙8-1'!AQ6","v":0},{"$f":"'照明灯台帳 別紙8-1'!AR6","v":0},{"$f":"'照明灯台帳 別紙8-1'!AS6","v":0},{"$f":"'照明灯台帳 別紙8-1'!AT6","v":0},{"$f":"'照明灯台帳 別紙8-1'!AU6","v":0},{"$f":"'照明灯台帳 別紙8-1'!AV6","v":0},{"$f":"'照明灯台帳 別紙8-1'!AW6","v":0},{"$f":"'照明灯台帳 別紙8-1'!AX6","v":0},{"$f":"'照明灯台帳 別紙8-1'!AY6","v":0},{"$f":"'照明灯台帳 別紙8-1'!AZ6","v":0},{"$f":"'照明灯台帳 別紙8-1'!BA6","v":0},{"$f":"'照明灯台帳 別紙8-1'!BB6","v":0},{"$f":"'照明灯台帳 別紙8-1'!BC6","v":0},{"$f":"'照明灯台帳 別紙8-1'!BD6","v":0},null,null,null,null,{"$f":"'照明灯台帳 別紙8-1'!BI6","v":0}]
[null,null,null,null,null,null,null,null,null,null,null,null,{"$f":"'照明灯台帳 別紙8-1'!M7","v":0},{"$f":"'照明灯台帳 別紙8-1'!N7","v":0},{"$f":"'照明灯台帳 別紙8-1'!O7","v":0},{"$f":"'照明灯台帳 別紙8-1'!P7","v":0},{"$f":"'照明灯台帳 別紙8-1'!Q7","v":0},{"$f":"'照明灯台帳 別紙8-1'!R7","v":0},{"$f":"'照明灯台帳 別紙8-1'!S7","v":0},{"$f":"'照明灯台帳 別紙8-1'!T7","v":0},{"$f":"'照明灯台帳 別紙8-1'!U7","v":0},{"$f":"'照明灯台帳 別紙8-1'!V7","v":0},{"$f":"'照明灯台帳 別紙8-1'!W7","v":0},{"$f":"'照明灯台帳 別紙8-1'!X7","v":0},{"$f":"'照明灯台帳 別紙8-1'!Y7","v":0},{"$f":"'照明灯台帳 別紙8-1'!Z7","v":0},{"$f":"'照明灯台帳 別紙8-1'!AA7","v":0},{"$f":"'照明灯台帳 別紙8-1'!AB7","v":0},{"$f":"'照明灯台帳 別紙8-1'!AC7","v":0},{"$f":"'照明灯台帳 別紙8-1'!AD7","v":0},{"$f":"'照明灯台帳 別紙8-1'!AE7","v":0},{"$f":"'照明灯台帳 別紙8-1'!AF7","v":0},{"$f":"'照明灯台帳 別紙8-1'!AG7","v":0},{"$f":"'照明灯台帳 別紙8-1'!AH7","v":0},{"$f":"'照明灯台帳 別紙8-1'!AI7","v":0},{"$f":"'照明灯台帳 別紙8-1'!AJ7","v":0},{"$f":"'照明灯台帳 別紙8-1'!AK7","v":0},{"$f":"'照明灯台帳 別紙8-1'!AL7","v":0},{"$f":"'照明灯台帳 別紙8-1'!AM7","v":0},{"$f":"'照明灯台帳 別紙8-1'!AN7","v":0},{"$f":"'照明灯台帳 別紙8-1'!AO7","v":0},{"$f":"'照明灯台帳 別紙8-1'!AP7","v":0},{"$f":"'照明灯台帳 別紙8-1'!AQ7","v":0},{"$f":"'照明灯台帳 別紙8-1'!AR7","v":0},{"$f":"'照明灯台帳 別紙8-1'!AS7","v":0},{"$f":"'照明灯台帳 別紙8-1'!AT7","v":0},{"$f":"'照明灯台帳 別紙8-1'!AU7","v":0},{"$f":"'照明灯台帳 別紙8-1'!AV7","v":0},{"$f":"'照明灯台帳 別紙8-1'!AW7","v":0},{"$f":"'照明灯台帳 別紙8-1'!AX7","v":0},{"$f":"'照明灯台帳 別紙8-1'!AY7","v":0},{"$f":"'照明灯台帳 別紙8-1'!AZ7","v":0},{"$f":"'照明灯台帳 別紙8-1'!BA7","v":0},{"$f":"'照明灯台帳 別紙8-1'!BB7","v":0},{"$f":"'照明灯台帳 別紙8-1'!BC7","v":0},{"$f":"'照明灯台帳 別紙8-1'!BD7","v":0},null,null,null,null,{"$f":"'照明灯台帳 別紙8-1'!BI7","v":0}]
[null,null,null,null,null,null,null,null,null,null,null,null,{"$f":"'照明灯台帳 別紙8-1'!M8","v":0},{"$f":"'照明灯台帳 別紙8-1'!N8","v":0},{"$f":"'照明灯台帳 別紙8-1'!O8","v":0},{"$f":"'照明灯台帳 別紙8-1'!P8","v":0},{"$f":"'照明灯台帳 別紙8-1'!Q8","v":0},{"$f":"'照明灯台帳 別紙8-1'!R8","v":0},{"$f":"'照明灯台帳 別紙8-1'!S8","v":0},{"$f":"'照明灯台帳 別紙8-1'!T8","v":0},{"$f":"'照明灯台帳 別紙8-1'!U8","v":0},{"$f":"'照明灯台帳 別紙8-1'!V8","v":0},{"$f":"'照明灯台帳 別紙8-1'!W8","v":0},{"$f":"'照明灯台帳 別紙8-1'!X8","v":0},{"$f":"'照明灯台帳 別紙8-1'!Y8","v":0},{"$f":"'照明灯台帳 別紙8-1'!Z8","v":0},{"$f":"'照明灯台帳 別紙8-1'!AA8","v":0},{"$f":"'照明灯台帳 別紙8-1'!AB8","v":0},{"$f":"'照明灯台帳 別紙8-1'!AC8","v":0},{"$f":"'照明灯台帳 別紙8-1'!AD8","v":0},{"$f":"'照明灯台帳 別紙8-1'!AE8","v":0},{"$f":"'照明灯台帳 別紙8-1'!AF8","v":0},{"$f":"'照明灯台帳 別紙8-1'!AG8","v":0},{"$f":"'照明灯台帳 別紙8-1'!AH8","v":0},{"$f":"'照明灯台帳 別紙8-1'!AI8","v":0},{"$f":"'照明灯台帳 別紙8-1'!AJ8","v":0},{"$f":"'照明灯台帳 別紙8-1'!AK8","v":0},{"$f":"'照明灯台帳 別紙8-1'!AL8","v":0},{"$f":"'照明灯台帳 別紙8-1'!AM8","v":0},{"$f":"'照明灯台帳 別紙8-1'!AN8","v":0},{"$f":"'照明灯台帳 別紙8-1'!AO8","v":0},{"$f":"'照明灯台帳 別紙8-1'!AP8","v":0},{"$f":"'照明灯台帳 別紙8-1'!AQ8","v":0},{"$f":"'照明灯台帳 別紙8-1'!AR8","v":0},{"$f":"'照明灯台帳 別紙8-1'!AS8","v":0},{"$f":"'照明灯台帳 別紙8-1'!AT8","v":0},{"$f":"'照明灯台帳 別紙8-1'!AU8","v":0},{"$f":"'照明灯台帳 別紙8-1'!AV8","v":0},{"$f":"'照明灯台帳 別紙8-1'!AW8","v":0},{"$f":"'照明灯台帳 別紙8-1'!AX8","v":0},{"$f":"'照明灯台帳 別紙8-1'!AY8","v":0},{"$f":"'照明灯台帳 別紙8-1'!AZ8","v":0},{"$f":"'照明灯台帳 別紙8-1'!BA8","v":0},{"$f":"'照明灯台帳 別紙8-1'!BB8","v":0},{"$f":"'照明灯台帳 別紙8-1'!BC8","v":0},{"$f":"'照明灯台帳 別紙8-1'!BD8","v":0},null,null,null,null,{"$f":"'照明灯台帳 別紙8-1'!BI8","v":0}]
[null,null,null,null,null,null,null,null,null,null,null,null,{"$f":"'照明灯台帳 別紙8-1'!M9","v":0},{"$f":"'照明灯台帳 別紙8-1'!N9","v":0},{"$f":"'照明灯台帳 別紙8-1'!O9","v":0},{"$f":"'照明灯台帳 別紙8-1'!P9","v":0},{"$f":"'照明灯台帳 別紙8-1'!Q9","v":0},{"$f":"'照明灯台帳 別紙8-1'!R9","v":0},{"$f":"'照明灯台帳 別紙8-1'!S9","v":0},{"$f":"'照明灯台帳 別紙8-1'!T9","v":0},{"$f":"'照明灯台帳 別紙8-1'!U9","v":0},{"$f":"'照明灯台帳 別紙8-1'!V9","v":0},{"$f":"'照明灯台帳 別紙8-1'!W9","v":0},{"$f":"'照明灯台帳 別紙8-1'!X9","v":0},{"$f":"'照明灯台帳 別紙8-1'!Y9","v":0},{"$f":"'照明灯台帳 別紙8-1'!Z9","v":0},{"$f":"'照明灯台帳 別紙8-1'!AA9","v":0},{"$f":"'照明灯台帳 別紙8-1'!AB9","v":0},{"$f":"'照明灯台帳 別紙8-1'!AC9","v":0},{"$f":"'照明灯台帳 別紙8-1'!AD9","v":0},{"$f":"'照明灯台帳 別紙8-1'!AE9","v":0},{"$f":"'照明灯台帳 別紙8-1'!AF9","v":0},{"$f":"'照明灯台帳 別紙8-1'!AG9","v":0},{"$f":"'照明灯台帳 別紙8-1'!AH9","v":0},{"$f":"'照明灯台帳 別紙8-1'!AI9","v":0},{"$f":"'照明灯台帳 別紙8-1'!AJ9","v":0},{"$f":"'照明灯台帳 別紙8-1'!AK9","v":0},{"$f":"'照明灯台帳 別紙8-1'!AL9","v":0},{"$f":"'照明灯台帳 別紙8-1'!AM9","v":0},{"$f":"'照明灯台帳 別紙8-1'!AN9","v":0},{"$f":"'照明灯台帳 別紙8-1'!AO9","v":0},{"$f":"'照明灯台帳 別紙8-1'!AP9","v":0},{"$f":"'照明灯台帳 別紙8-1'!AQ9","v":0},{"$f":"'照明灯台帳 別紙8-1'!AR9","v":0},{"$f":"'照明灯台帳 別紙8-1'!AS9","v":0},{"$f":"'照明灯台帳 別紙8-1'!AT9","v":0},{"$f":"'照明灯台帳 別紙8-1'!AU9","v":0},{"$f":"'照明灯台帳 別紙8-1'!AV9","v":0},{"$f":"'照明灯台帳 別紙8-1'!AW9","v":0},{"$f":"'照明灯台帳 別紙8-1'!AX9","v":0},{"$f":"'照明灯台帳 別紙8-1'!AY9","v":0},{"$f":"'照明灯台帳 別紙8-1'!AZ9","v":0},{"$f":"'照明灯台帳 別紙8-1'!BA9","v":0},{"$f":"'照明灯台帳 別紙8-1'!BB9","v":0},{"$f":"'照明灯台帳 別紙8-1'!BC9","v":0},{"$f":"'照明灯台帳 別紙8-1'!BD9","v":0},null,null,null,null,{"$f":"'照明灯台帳 別紙8-1'!BI9","v":0}]
[null,null,null,null,null,null,null,null,null,null,null,null,{"$f":"'照明灯台帳 別紙8-1'!M10","v":0},{"$f":"'照明灯台帳 別紙8-1'!N10","v":0},{"$f":"'照明灯台帳 別紙8-1'!O10","v":0},{"$f":"'照明灯台帳 別紙8-1'!P10","v":0},{"$f":"'照明灯台帳 別紙8-1'!Q10","v":0},{"$f":"'照明灯台帳 別紙8-1'!R10","v":0},{"$f":"'照明灯台帳 別紙8-1'!S10","v":0},{"$f":"'照明灯台帳 別紙8-1'!T10","v":0},{"$f":"'照明灯台帳 別紙8-1'!U10","v":0},{"$f":"'照明灯台帳 別紙8-1'!V10","v":0},{"$f":"'照明灯台帳 別紙8-1'!W10","v":0},{"$f":"'照明灯台帳 別紙8-1'!X10","v":0},{"$f":"'照明灯台帳 別紙8-1'!Y10","v":0},{"$f":"'照明灯台帳 別紙8-1'!Z10","v":0},{"$f":"'照明灯台帳 別紙8-1'!AA10","v":0},{"$f":"'照明灯台帳 別紙8-1'!AB10","v":0},{"$f":"'照明灯台帳 別紙8-1'!AC10","v":0},{"$f":"'照明灯台帳 別紙8-1'!AD10","v":0},{"$f":"'照明灯台帳 別紙8-1'!AE10","v":0},{"$f":"'照明灯台帳 別紙8-1'!AF10","v":0},{"$f":"'照明灯台帳 別紙8-1'!AG10","v":0},{"$f":"'照明灯台帳 別紙8-1'!AH10","v":0},{"$f":"'照明灯台帳 別紙8-1'!AI10","v":0},{"$f":"'照明灯台帳 別紙8-1'!AJ10","v":0},{"$f":"'照明灯台帳 別紙8-1'!AK10","v":0},{"$f":"'照明灯台帳 別紙8-1'!AL10","v":0},{"$f":"'照明灯台帳 別紙8-1'!AM10","v":0},{"$f":"'照明灯台帳 別紙8-1'!AN10","v":0},{"$f":"'照明灯台帳 別紙8-1'!AO10","v":0},{"$f":"'照明灯台帳 別紙8-1'!AP10","v":0},{"$f":"'照明灯台帳 別紙8-1'!AQ10","v":0},{"$f":"'照明灯台帳 別紙8-1'!AR10","v":0},{"$f":"'照明灯台帳 別紙8-1'!AS10","v":0},{"$f":"'照明灯台帳 別紙8-1'!AT10","v":0},{"$f":"'照明灯台帳 別紙8-1'!AU10","v":0},{"$f":"'照明灯台帳 別紙8-1'!AV10","v":0},{"$f":"'照明灯台帳 別紙8-1'!AW10","v":0},{"$f":"'照明灯台帳 別紙8-1'!AX10","v":0},{"$f":"'照明灯台帳 別紙8-1'!AY10","v":0},{"$f":"'照明灯台帳 別紙8-1'!AZ10","v":0},{"$f":"'照明灯台帳 別紙8-1'!BA10","v":0},{"$f":"'照明灯台帳 別紙8-1'!BB10","v":0},{"$f":"'照明灯台帳 別紙8-1'!BC10","v":0},{"$f":"'照明灯台帳 別紙8-1'!BD10","v":0},null,null,null,null,{"$f":"'照明灯台帳 別紙8-1'!BI10","v":0}]
[null,null,null,null,null,null,null,null,null,null,null,null,{"$f":"'照明灯台帳 別紙8-1'!M11","v":0},{"$f":"'照明灯台帳 別紙8-1'!N11","v":0},{"$f":"'照明灯台帳 別紙8-1'!O11","v":0},{"$f":"'照明灯台帳 別紙8-1'!P11","v":0},{"$f":"'照明灯台帳 別紙8-1'!Q11","v":0},{"$f":"'照明灯台帳 別紙8-1'!R11","v":0},{"$f":"'照明灯台帳 別紙8-1'!S11","v":0},{"$f":"'照明灯台帳 別紙8-1'!T11","v":0},{"$f":"'照明灯台帳 別紙8-1'!U11","v":0},{"$f":"'照明灯台帳 別紙8-1'!V11","v":0},{"$f":"'照明灯台帳 別紙8-1'!W11","v":0},{"$f":"'照明灯台帳 別紙8-1'!X11","v":0},{"$f":"'照明灯台帳 別紙8-1'!Y11","v":0},{"$f":"'照明灯台帳 別紙8-1'!Z11","v":0},{"$f":"'照明灯台帳 別紙8-1'!AA11","v":0},{"$f":"'照明灯台帳 別紙8-1'!AB11","v":0},{"$f":"'照明灯台帳 別紙8-1'!AC11","v":0},{"$f":"'照明灯台帳 別紙8-1'!AD11","v":0},{"$f":"'照明灯台帳 別紙8-1'!AE11","v":0},{"$f":"'照明灯台帳 別紙8-1'!AF11","v":0},{"$f":"'照明灯台帳 別紙8-1'!AG11","v":0},{"$f":"'照明灯台帳 別紙8-1'!AH11","v":0},{"$f":"'照明灯台帳 別紙8-1'!AI11","v":0},{"$f":"'照明灯台帳 別紙8-1'!AJ11","v":0},{"$f":"'照明灯台帳 別紙8-1'!AK11","v":0},{"$f":"'照明灯台帳 別紙8-1'!AL11","v":0},{"$f":"'照明灯台帳 別紙8-1'!AM11","v":0},{"$f":"'照明灯台帳 別紙8-1'!AN11","v":0},{"$f":"'照明灯台帳 別紙8-1'!AO11","v":0},{"$f":"'照明灯台帳 別紙8-1'!AP11","v":0},{"$f":"'照明灯台帳 別紙8-1'!AQ11","v":0},{"$f":"'照明灯台帳 別紙8-1'!AR11","v":0},{"$f":"'照明灯台帳 別紙8-1'!AS11","v":0},{"$f":"'照明灯台帳 別紙8-1'!AT11","v":0},{"$f":"'照明灯台帳 別紙8-1'!AU11","v":0},{"$f":"'照明灯台帳 別紙8-1'!AV11","v":0},{"$f":"'照明灯台帳 別紙8-1'!AW11","v":0},{"$f":"'照明灯台帳 別紙8-1'!AX11","v":0},{"$f":"'照明灯台帳 別紙8-1'!AY11","v":0},{"$f":"'照明灯台帳 別紙8-1'!AZ11","v":0},{"$f":"'照明灯台帳 別紙8-1'!BA11","v":0},{"$f":"'照明灯台帳 別紙8-1'!BB11","v":0},{"$f":"'照明灯台帳 別紙8-1'!BC11","v":0},{"$f":"'照明灯台帳 別紙8-1'!BD11","v":0},null,null,null,null,{"$f":"'照明灯台帳 別紙8-1'!BI11","v":0}]
[null,null,null,null,null,null,null,null,null,null,null,null,{"$f":"'照明灯台帳 別紙8-1'!M12","v":0},{"$f":"'照明灯台帳 別紙8-1'!N12","v":0},{"$f":"'照明灯台帳 別紙8-1'!O12","v":0},{"$f":"'照明灯台帳 別紙8-1'!P12","v":0},{"$f":"'照明灯台帳 別紙8-1'!Q12","v":0},{"$f":"'照明灯台帳 別紙8-1'!R12","v":0},{"$f":"'照明灯台帳 別紙8-1'!S12","v":0},{"$f":"'照明灯台帳 別紙8-1'!T12","v":0},{"$f":"'照明灯台帳 別紙8-1'!U12","v":0},{"$f":"'照明灯台帳 別紙8-1'!V12","v":0},{"$f":"'照明灯台帳 別紙8-1'!W12","v":0},{"$f":"'照明灯台帳 別紙8-1'!X12","v":0},{"$f":"'照明灯台帳 別紙8-1'!Y12","v":0},{"$f":"'照明灯台帳 別紙8-1'!Z12","v":0},{"$f":"'照明灯台帳 別紙8-1'!AA12","v":0},{"$f":"'照明灯台帳 別紙8-1'!AB12","v":0},{"$f":"'照明灯台帳 別紙8-1'!AC12","v":0},{"$f":"'照明灯台帳 別紙8-1'!AD12","v":0},{"$f":"'照明灯台帳 別紙8-1'!AE12","v":0},{"$f":"'照明灯台帳 別紙8-1'!AF12","v":0},{"$f":"'照明灯台帳 別紙8-1'!AG12","v":0},{"$f":"'照明灯台帳 別紙8-1'!AH12","v":0},{"$f":"'照明灯台帳 別紙8-1'!AI12","v":0},{"$f":"'照明灯台帳 別紙8-1'!AJ12","v":0},{"$f":"'照明灯台帳 別紙8-1'!AK12","v":0},{"$f":"'照明灯台帳 別紙8-1'!AL12","v":0},{"$f":"'照明灯台帳 別紙8-1'!AM12","v":0},{"$f":"'照明灯台帳 別紙8-1'!AN12","v":0},{"$f":"'照明灯台帳 別紙8-1'!AO12","v":0},{"$f":"'照明灯台帳 別紙8-1'!AP12","v":0},{"$f":"'照明灯台帳 別紙8-1'!AQ12","v":0},{"$f":"'照明灯台帳 別紙8-1'!AR12","v":0},{"$f":"'照明灯台帳 別紙8-1'!AS12","v":0},{"$f":"'照明灯台帳 別紙8-1'!AT12","v":0},{"$f":"'照明灯台帳 別紙8-1'!AU12","v":0},{"$f":"'照明灯台帳 別紙8-1'!AV12","v":0},{"$f":"'照明灯台帳 別紙8-1'!AW12","v":0},{"$f":"'照明灯台帳 別紙8-1'!AX12","v":0},{"$f":"'照明灯台帳 別紙8-1'!AY12","v":0},{"$f":"'照明灯台帳 別紙8-1'!AZ12","v":0},{"$f":"'照明灯台帳 別紙8-1'!BA12","v":0},{"$f":"'照明灯台帳 別紙8-1'!BB12","v":0},{"$f":"'照明灯台帳 別紙8-1'!BC12","v":0},{"$f":"'照明灯台帳 別紙8-1'!BD12","v":0},null,null,null,null,{"$f":"'照明灯台帳 別紙8-1'!BI12","v":0}]
[null,null,null,null,null,null,null,null,null,null,null,null,{"$f":"'照明灯台帳 別紙8-1'!M13","v":0},{"$f":"'照明灯台帳 別紙8-1'!N13","v":0},{"$f":"'照明灯台帳 別紙8-1'!O13","v":0},{"$f":"'照明灯台帳 別紙8-1'!P13","v":0},{"$f":"'照明灯台帳 別紙8-1'!Q13","v":0},{"$f":"'照明灯台帳 別紙8-1'!R13","v":0},{"$f":"'照明灯台帳 別紙8-1'!S13","v":0},{"$f":"'照明灯台帳 別紙8-1'!T13","v":0},{"$f":"'照明灯台帳 別紙8-1'!U13","v":0},{"$f":"'照明灯台帳 別紙8-1'!V13","v":0},{"$f":"'照明灯台帳 別紙8-1'!W13","v":0},{"$f":"'照明灯台帳 別紙8-1'!X13","v":0},{"$f":"'照明灯台帳 別紙8-1'!Y13","v":0},{"$f":"'照明灯台帳 別紙8-1'!Z13","v":0},{"$f":"'照明灯台帳 別紙8-1'!AA13","v":0},{"$f":"'照明灯台帳 別紙8-1'!AB13","v":0},{"$f":"'照明灯台帳 別紙8-1'!AC13","v":0},{"$f":"'照明灯台帳 別紙8-1'!AD13","v":0},{"$f":"'照明灯台帳 別紙8-1'!AE13","v":0},{"$f":"'照明灯台帳 別紙8-1'!AF13","v":0},{"$f":"'照明灯台帳 別紙8-1'!AG13","v":0},{"$f":"'照明灯台帳 別紙8-1'!AH13","v":0},{"$f":"'照明灯台帳 別紙8-1'!AI13","v":0},{"$f":"'照明灯台帳 別紙8-1'!AJ13","v":0},{"$f":"'照明灯台帳 別紙8-1'!AK13","v":0},{"$f":"'照明灯台帳 別紙8-1'!AL13","v":0},{"$f":"'照明灯台帳 別紙8-1'!AM13","v":0},{"$f":"'照明灯台帳 別紙8-1'!AN13","v":0},{"$f":"'照明灯台帳 別紙8-1'!AO13","v":0},{"$f":"'照明灯台帳 別紙8-1'!AP13","v":0},{"$f":"'照明灯台帳 別紙8-1'!AQ13","v":0},{"$f":"'照明灯台帳 別紙8-1'!AR13","v":0},{"$f":"'照明灯台帳 別紙8-1'!AS13","v":0},{"$f":"'照明灯台帳 別紙8-1'!AT13","v":0},{"$f":"'照明灯台帳 別紙8-1'!AU13","v":0},{"$f":"'照明灯台帳 別紙8-1'!AV13","v":0},{"$f":"'照明灯台帳 別紙8-1'!AW13","v":0},{"$f":"'照明灯台帳 別紙8-1'!AX13","v":0},{"$f":"'照明灯台帳 別紙8-1'!AY13","v":0},{"$f":"'照明灯台帳 別紙8-1'!AZ13","v":0},{"$f":"'照明灯台帳 別紙8-1'!BA13","v":0},{"$f":"'照明灯台帳 別紙8-1'!BB13","v":0},{"$f":"'照明灯台帳 別紙8-1'!BC13","v":0},{"$f":"'照明灯台帳 別紙8-1'!BD13","v":0},null,null,null,null,{"$f":"'照明灯台帳 別紙8-1'!BI13","v":0}]
[null,null,null,null,null,null,null,null,null,null,null,null,{"$f":"'照明灯台帳 別紙8-1'!M14","v":0},{"$f":"'照明灯台帳 別紙8-1'!N14","v":0},{"$f":"'照明灯台帳 別紙8-1'!O14","v":0},{"$f":"'照明灯台帳 別紙8-1'!P14","v":0},{"$f":"'照明灯台帳 別紙8-1'!Q14","v":0},{"$f":"'照明灯台帳 別紙8-1'!R14","v":0},{"$f":"'照明灯台帳 別紙8-1'!S14","v":0},{"$f":"'照明灯台帳 別紙8-1'!T14","v":0},{"$f":"'照明灯台帳 別紙8-1'!U14","v":0},{"$f":"'照明灯台帳 別紙8-1'!V14","v":0},{"$f":"'照明灯台帳 別紙8-1'!W14","v":0},{"$f":"'照明灯台帳 別紙8-1'!X14","v":0},{"$f":"'照明灯台帳 別紙8-1'!Y14","v":0},{"$f":"'照明灯台帳 別紙8-1'!Z14","v":0},{"$f":"'照明灯台帳 別紙8-1'!AA14","v":0},{"$f":"'照明灯台帳 別紙8-1'!AB14","v":0},{"$f":"'照明灯台帳 別紙8-1'!AC14","v":0},{"$f":"'照明灯台帳 別紙8-1'!AD14","v":0},{"$f":"'照明灯台帳 別紙8-1'!AE14","v":0},{"$f":"'照明灯台帳 別紙8-1'!AF14","v":0},{"$f":"'照明灯台帳 別紙8-1'!AG14","v":0},{"$f":"'照明灯台帳 別紙8-1'!AH14","v":0},{"$f":"'照明灯台帳 別紙8-1'!AI14","v":0},{"$f":"'照明灯台帳 別紙8-1'!AJ14","v":0},{"$f":"'照明灯台帳 別紙8-1'!AK14","v":0},{"$f":"'照明灯台帳 別紙8-1'!AL14","v":0},{"$f":"'照明灯台帳 別紙8-1'!AM14","v":0},{"$f":"'照明灯台帳 別紙8-1'!AN14","v":0},{"$f":"'照明灯台帳 別紙8-1'!AO14","v":0},{"$f":"'照明灯台帳 別紙8-1'!AP14","v":0},{"$f":"'照明灯台帳 別紙8-1'!AQ14","v":0},{"$f":"'照明灯台帳 別紙8-1'!AR14","v":0},{"$f":"'照明灯台帳 別紙8-1'!AS14","v":0},{"$f":"'照明灯台帳 別紙8-1'!AT14","v":0},{"$f":"'照明灯台帳 別紙8-1'!AU14","v":0},{"$f":"'照明灯台帳 別紙8-1'!AV14","v":0},{"$f":"'照明灯台帳 別紙8-1'!AW14","v":0},{"$f":"'照明灯台帳 別紙8-1'!AX14","v":0},{"$f":"'照明灯台帳 別紙8-1'!AY14","v":0},{"$f":"'照明灯台帳 別紙8-1'!AZ14","v":0},{"$f":"'照明灯台帳 別紙8-1'!BA14","v":0},{"$f":"'照明灯台帳 別紙8-1'!BB14","v":0},{"$f":"'照明灯台帳 別紙8-1'!BC14","v":0},{"$f":"'照明灯台帳 別紙8-1'!BD14","v":0},null,null,null,null,{"$f":"'照明灯台帳 別紙8-1'!BI14","v":0}]
[null,null,null,null,null,null,null,null,null,null,null,null,{"$f":"'照明灯台帳 別紙8-1'!M15","v":0},{"$f":"'照明灯台帳 別紙8-1'!N15","v":0},{"$f":"'照明灯台帳 別紙8-1'!O15","v":0},{"$f":"'照明灯台帳 別紙8-1'!P15","v":0},{"$f":"'照明灯台帳 別紙8-1'!Q15","v":0},{"$f":"'照明灯台帳 別紙8-1'!R15","v":0},{"$f":"'照明灯台帳 別紙8-1'!S15","v":0},{"$f":"'照明灯台帳 別紙8-1'!T15","v":0},{"$f":"'照明灯台帳 別紙8-1'!U15","v":0},{"$f":"'照明灯台帳 別紙8-1'!V15","v":0},{"$f":"'照明灯台帳 別紙8-1'!W15","v":0},{"$f":"'照明灯台帳 別紙8-1'!X15","v":0},{"$f":"'照明灯台帳 別紙8-1'!Y15","v":0},{"$f":"'照明灯台帳 別紙8-1'!Z15","v":0},{"$f":"'照明灯台帳 別紙8-1'!AA15","v":0},{"$f":"'照明灯台帳 別紙8-1'!AB15","v":0},{"$f":"'照明灯台帳 別紙8-1'!AC15","v":0},{"$f":"'照明灯台帳 別紙8-1'!AD15","v":0},{"$f":"'照明灯台帳 別紙8-1'!AE15","v":0},{"$f":"'照明灯台帳 別紙8-1'!AF15","v":0},{"$f":"'照明灯台帳 別紙8-1'!AG15","v":0},{"$f":"'照明灯台帳 別紙8-1'!AH15","v":0},{"$f":"'照明灯台帳 別紙8-1'!AI15","v":0},{"$f":"'照明灯台帳 別紙8-1'!AJ15","v":0},{"$f":"'照明灯台帳 別紙8-1'!AK15","v":0},{"$f":"'照明灯台帳 別紙8-1'!AL15","v":0},{"$f":"'照明灯台帳 別紙8-1'!AM15","v":0},{"$f":"'照明灯台帳 別紙8-1'!AN15","v":0},{"$f":"'照明灯台帳 別紙8-1'!AO15","v":0},{"$f":"'照明灯台帳 別紙8-1'!AP15","v":0},{"$f":"'照明灯台帳 別紙8-1'!AQ15","v":0},{"$f":"'照明灯台帳 別紙8-1'!AR15","v":0},{"$f":"'照明灯台帳 別紙8-1'!AS15","v":0},{"$f":"'照明灯台帳 別紙8-1'!AT15","v":0},{"$f":"'照明灯台帳 別紙8-1'!AU15","v":0},{"$f":"'照明灯台帳 別紙8-1'!AV15","v":0},{"$f":"'照明灯台帳 別紙8-1'!AW15","v":0},{"$f":"'照明灯台帳 別紙8-1'!AX15","v":0},{"$f":"'照明灯台帳 別紙8-1'!AY15","v":0},{"$f":"'照明灯台帳 別紙8-1'!AZ15","v":0},{"$f":"'照明灯台帳 別紙8-1'!BA15","v":0},{"$f":"'照明灯台帳 別紙8-1'!BB15","v":0},{"$f":"'照明灯台帳 別紙8-1'!BC15","v":0},{"$f":"'照明灯台帳 別紙8-1'!BD15","v":0},null,null,null,null,{"$f":"'照明灯台帳 別紙8-1'!BI15","v":0}]
[null,null,null,null,null,null,null,null,null,null,null,null,{"$f":"'照明灯台帳 別紙8-1'!M16","v":0},{"$f":"'照明灯台帳 別紙8-1'!N16","v":0},{"$f":"'照明灯台帳 別紙8-1'!O16","v":0},{"$f":"'照明灯台帳 別紙8-1'!P16","v":0},{"$f":"'照明灯台帳 別紙8-1'!Q16","v":0},{"$f":"'照明灯台帳 別紙8-1'!R16","v":0},{"$f":"'照明灯台帳 別紙8-1'!S16","v":0},{"$f":"'照明灯台帳 別紙8-1'!T16","v":0},{"$f":"'照明灯台帳 別紙8-1'!U16","v":0},{"$f":"'照明灯台帳 別紙8-1'!V16","v":0},{"$f":"'照明灯台帳 別紙8-1'!W16","v":0},{"$f":"'照明灯台帳 別紙8-1'!X16","v":0},{"$f":"'照明灯台帳 別紙8-1'!Y16","v":0},{"$f":"'照明灯台帳 別紙8-1'!Z16","v":0},{"$f":"'照明灯台帳 別紙8-1'!AA16","v":0},{"$f":"'照明灯台帳 別紙8-1'!AB16","v":0},{"$f":"'照明灯台帳 別紙8-1'!AC16","v":0},{"$f":"'照明灯台帳 別紙8-1'!AD16","v":0},{"$f":"'照明灯台帳 別紙8-1'!AE16","v":0},{"$f":"'照明灯台帳 別紙8-1'!AF16","v":0},{"$f":"'照明灯台帳 別紙8-1'!AG16","v":0},{"$f":"'照明灯台帳 別紙8-1'!AH16","v":0},{"$f":"'照明灯台帳 別紙8-1'!AI16","v":0},{"$f":"'照明灯台帳 別紙8-1'!AJ16","v":0},{"$f":"'照明灯台帳 別紙8-1'!AK16","v":0},{"$f":"'照明灯台帳 別紙8-1'!AL16","v":0},{"$f":"'照明灯台帳 別紙8-1'!AM16","v":0},{"$f":"'照明灯台帳 別紙8-1'!AN16","v":0},{"$f":"'照明灯台帳 別紙8-1'!AO16","v":0},{"$f":"'照明灯台帳 別紙8-1'!AP16","v":0},{"$f":"'照明灯台帳 別紙8-1'!AQ16","v":0},{"$f":"'照明灯台帳 別紙8-1'!AR16","v":0},{"$f":"'照明灯台帳 別紙8-1'!AS16","v":0},{"$f":"'照明灯台帳 別紙8-1'!AT16","v":0},{"$f":"'照明灯台帳 別紙8-1'!AU16","v":0},{"$f":"'照明灯台帳 別紙8-1'!AV16","v":0},{"$f":"'照明灯台帳 別紙8-1'!AW16","v":0},{"$f":"'照明灯台帳 別紙8-1'!AX16","v":0},{"$f":"'照明灯台帳 別紙8-1'!AY16","v":0},{"$f":"'照明灯台帳 別紙8-1'!AZ16","v":0},{"$f":"'照明灯台帳 別紙8-1'!BA16","v":0},{"$f":"'照明灯台帳 別紙8-1'!BB16","v":0},{"$f":"'照明灯台帳 別紙8-1'!BC16","v":0},{"$f":"'照明灯台帳 別紙8-1'!BD16","v":0},null,null,null,null,{"$f":"'照明灯台帳 別紙8-1'!BI16","v":0}]
[null,null,null,null,null,null,null,null,null,null,null,null,{"$f":"'照明灯台帳 別紙8-1'!M17","v":0},{"$f":"'照明灯台帳 別紙8-1'!N17","v":0},{"$f":"'照明灯台帳 別紙8-1'!O17","v":0},{"$f":"'照明灯台帳 別紙8-1'!P17","v":0},{"$f":"'照明灯台帳 別紙8-1'!Q17","v":0},{"$f":"'照明灯台帳 別紙8-1'!R17","v":0},{"$f":"'照明灯台帳 別紙8-1'!S17","v":0},{"$f":"'照明灯台帳 別紙8-1'!T17","v":0},{"$f":"'照明灯台帳 別紙8-1'!U17","v":0},{"$f":"'照明灯台帳 別紙8-1'!V17","v":0},{"$f":"'照明灯台帳 別紙8-1'!W17","v":0},{"$f":"'照明灯台帳 別紙8-1'!X17","v":0},{"$f":"'照明灯台帳 別紙8-1'!Y17","v":0},{"$f":"'照明灯台帳 別紙8-1'!Z17","v":0},{"$f":"'照明灯台帳 別紙8-1'!AA17","v":0},{"$f":"'照明灯台帳 別紙8-1'!AB17","v":0},{"$f":"'照明灯台帳 別紙8-1'!AC17","v":0},{"$f":"'照明灯台帳 別紙8-1'!AD17","v":0},{"$f":"'照明灯台帳 別紙8-1'!AE17","v":0},{"$f":"'照明灯台帳 別紙8-1'!AF17","v":0},{"$f":"'照明灯台帳 別紙8-1'!AG17","v":0},{"$f":"'照明灯台帳 別紙8-1'!AH17","v":0},{"$f":"'照明灯台帳 別紙8-1'!AI17","v":0},{"$f":"'照明灯台帳 別紙8-1'!AJ17","v":0},{"$f":"'照明灯台帳 別紙8-1'!AK17","v":0},{"$f":"'照明灯台帳 別紙8-1'!AL17","v":0},{"$f":"'照明灯台帳 別紙8-1'!AM17","v":0},{"$f":"'照明灯台帳 別紙8-1'!AN17","v":0},{"$f":"'照明灯台帳 別紙8-1'!AO17","v":0},{"$f":"'照明灯台帳 別紙8-1'!AP17","v":0},{"$f":"'照明灯台帳 別紙8-1'!AQ17","v":0},{"$f":"'照明灯台帳 別紙8-1'!AR17","v":0},{"$f":"'照明灯台帳 別紙8-1'!AS17","v":0},{"$f":"'照明灯台帳 別紙8-1'!AT17","v":0},{"$f":"'照明灯台帳 別紙8-1'!AU17","v":0},{"$f":"'照明灯台帳 別紙8-1'!AV17","v":0},{"$f":"'照明灯台帳 別紙8-1'!AW17","v":0},{"$f":"'照明灯台帳 別紙8-1'!AX17","v":0},{"$f":"'照明灯台帳 別紙8-1'!AY17","v":0},{"$f":"'照明灯台帳 別紙8-1'!AZ17","v":0},{"$f":"'照明灯台帳 別紙8-1'!BA17","v":0},{"$f":"'照明灯台帳 別紙8-1'!BB17","v":0},{"$f":"'照明灯台帳 別紙8-1'!BC17","v":0},{"$f":"'照明灯台帳 別紙8-1'!BD17","v":0},null,null,null,null,{"$f":"'照明灯台帳 別紙8-1'!BI17","v":0}]
[null,null,null,null,null,null,null,null,null,null,null,null,{"$f":"'照明灯台帳 別紙8-1'!M18","v":0},{"$f":"'照明灯台帳 別紙8-1'!N18","v":0},{"$f":"'照明灯台帳 別紙8-1'!O18","v":0},{"$f":"'照明灯台帳 別紙8-1'!P18","v":0},{"$f":"'照明灯台帳 別紙8-1'!Q18","v":0},{"$f":"'照明灯台帳 別紙8-1'!R18","v":0},{"$f":"'照明灯台帳 別紙8-1'!S18","v":0},{"$f":"'照明灯台帳 別紙8-1'!T18","v":0},{"$f":"'照明灯台帳 別紙8-1'!U18","v":0},{"$f":"'照明灯台帳 別紙8-1'!V18","v":0},{"$f":"'照明灯台帳 別紙8-1'!W18","v":0},{"$f":"'照明灯台帳 別紙8-1'!X18","v":0},{"$f":"'照明灯台帳 別紙8-1'!Y18","v":0},{"$f":"'照明灯台帳 別紙8-1'!Z18","v":0},{"$f":"'照明灯台帳 別紙8-1'!AA18","v":0},{"$f":"'照明灯台帳 別紙8-1'!AB18","v":0},{"$f":"'照明灯台帳 別紙8-1'!AC18","v":0},{"$f":"'照明灯台帳 別紙8-1'!AD18","v":0},{"$f":"'照明灯台帳 別紙8-1'!AE18","v":0},{"$f":"'照明灯台帳 別紙8-1'!AF18","v":0},{"$f":"'照明灯台帳 別紙8-1'!AG18","v":0},{"$f":"'照明灯台帳 別紙8-1'!AH18","v":0},{"$f":"'照明灯台帳 別紙8-1'!AI18","v":0},{"$f":"'照明灯台帳 別紙8-1'!AJ18","v":0},{"$f":"'照明灯台帳 別紙8-1'!AK18","v":0},{"$f":"'照明灯台帳 別紙8-1'!AL18","v":0},{"$f":"'照明灯台帳 別紙8-1'!AM18","v":0},{"$f":"'照明灯台帳 別紙8-1'!AN18","v":0},{"$f":"'照明灯台帳 別紙8-1'!AO18","v":0},{"$f":"'照明灯台帳 別紙8-1'!AP18","v":0},{"$f":"'照明灯台帳 別紙8-1'!AQ18","v":0},{"$f":"'照明灯台帳 別紙8-1'!AR18","v":0},{"$f":"'照明灯台帳 別紙8-1'!AS18","v":0},{"$f":"'照明灯台帳 別紙8-1'!AT18","v":0},{"$f":"'照明灯台帳 別紙8-1'!AU18","v":0},{"$f":"'照明灯台帳 別紙8-1'!AV18","v":0},{"$f":"'照明灯台帳 別紙8-1'!AW18","v":0},{"$f":"'照明灯台帳 別紙8-1'!AX18","v":0},{"$f":"'照明灯台帳 別紙8-1'!AY18","v":0},{"$f":"'照明灯台帳 別紙8-1'!AZ18","v":0},{"$f":"'照明灯台帳 別紙8-1'!BA18","v":0},{"$f":"'照明灯台帳 別紙8-1'!BB18","v":0},{"$f":"'照明灯台帳 別紙8-1'!BC18","v":0},{"$f":"'照明灯台帳 別紙8-1'!BD18","v":0},null,null,null,null,{"$f":"'照明灯台帳 別紙8-1'!BI18","v":0}]
[null,null,null,null,null,null,null,null,null,null,null,null,{"$f":"'照明灯台帳 別紙8-1'!M19","v":0},{"$f":"'照明灯台帳 別紙8-1'!N19","v":0},{"$f":"'照明灯台帳 別紙8-1'!O19","v":0},{"$f":"'照明灯台帳 別紙8-1'!P19","v":0},{"$f":"'照明灯台帳 別紙8-1'!Q19","v":0},{"$f":"'照明灯台帳 別紙8-1'!R19","v":0},{"$f":"'照明灯台帳 別紙8-1'!S19","v":0},{"$f":"'照明灯台帳 別紙8-1'!T19","v":0},{"$f":"'照明灯台帳 別紙8-1'!U19","v":0},{"$f":"'照明灯台帳 別紙8-1'!V19","v":0},{"$f":"'照明灯台帳 別紙8-1'!W19","v":0},{"$f":"'照明灯台帳 別紙8-1'!X19","v":0},{"$f":"'照明灯台帳 別紙8-1'!Y19","v":0},{"$f":"'照明灯台帳 別紙8-1'!Z19","v":0},{"$f":"'照明灯台帳 別紙8-1'!AA19","v":0},{"$f":"'照明灯台帳 別紙8-1'!AB19","v":0},{"$f":"'照明灯台帳 別紙8-1'!AC19","v":0},{"$f":"'照明灯台帳 別紙8-1'!AD19","v":0},{"$f":"'照明灯台帳 別紙8-1'!AE19","v":0},{"$f":"'照明灯台帳 別紙8-1'!AF19","v":0},{"$f":"'照明灯台帳 別紙8-1'!AG19","v":0},{"$f":"'照明灯台帳 別紙8-1'!AH19","v":0},{"$f":"'照明灯台帳 別紙8-1'!AI19","v":0},{"$f":"'照明灯台帳 別紙8-1'!AJ19","v":0},{"$f":"'照明灯台帳 別紙8-1'!AK19","v":0},{"$f":"'照明灯台帳 別紙8-1'!AL19","v":0},{"$f":"'照明灯台帳 別紙8-1'!AM19","v":0},{"$f":"'照明灯台帳 別紙8-1'!AN19","v":0},{"$f":"'照明灯台帳 別紙8-1'!AO19","v":0},{"$f":"'照明灯台帳 別紙8-1'!AP19","v":0},{"$f":"'照明灯台帳 別紙8-1'!AQ19","v":0},{"$f":"'照明灯台帳 別紙8-1'!AR19","v":0},{"$f":"'照明灯台帳 別紙8-1'!AS19","v":0},{"$f":"'照明灯台帳 別紙8-1'!AT19","v":0},{"$f":"'照明灯台帳 別紙8-1'!AU19","v":0},{"$f":"'照明灯台帳 別紙8-1'!AV19","v":0},{"$f":"'照明灯台帳 別紙8-1'!AW19","v":0},{"$f":"'照明灯台帳 別紙8-1'!AX19","v":0},{"$f":"'照明灯台帳 別紙8-1'!AY19","v":0},{"$f":"'照明灯台帳 別紙8-1'!AZ19","v":0},{"$f":"'照明灯台帳 別紙8-1'!BA19","v":0},{"$f":"'照明灯台帳 別紙8-1'!BB19","v":0},{"$f":"'照明灯台帳 別紙8-1'!BC19","v":0},{"$f":"'照明灯台帳 別紙8-1'!BD19","v":0},null,null,null,null,{"$f":"'照明灯台帳 別紙8-1'!BI19","v":0}]
[null,null,null,null,null,null,null,null,null,null,null,null,{"$f":"'照明灯台帳 別紙8-1'!M20","v":0},{"$f":"'照明灯台帳 別紙8-1'!N20","v":0},{"$f":"'照明灯台帳 別紙8-1'!O20","v":0},{"$f":"'照明灯台帳 別紙8-1'!P20","v":0},{"$f":"'照明灯台帳 別紙8-1'!Q20","v":0},{"$f":"'照明灯台帳 別紙8-1'!R20","v":0},{"$f":"'照明灯台帳 別紙8-1'!S20","v":0},{"$f":"'照明灯台帳 別紙8-1'!T20","v":0},{"$f":"'照明灯台帳 別紙8-1'!U20","v":0},{"$f":"'照明灯台帳 別紙8-1'!V20","v":0},{"$f":"'照明灯台帳 別紙8-1'!W20","v":0},{"$f":"'照明灯台帳 別紙8-1'!X20","v":0},{"$f":"'照明灯台帳 別紙8-1'!Y20","v":0},{"$f":"'照明灯台帳 別紙8-1'!Z20","v":0},{"$f":"'照明灯台帳 別紙8-1'!AA20","v":0},{"$f":"'照明灯台帳 別紙8-1'!AB20","v":0},{"$f":"'照明灯台帳 別紙8-1'!AC20","v":0},{"$f":"'照明灯台帳 別紙8-1'!AD20","v":0},{"$f":"'照明灯台帳 別紙8-1'!AE20","v":0},{"$f":"'照明灯台帳 別紙8-1'!AF20","v":0},{"$f":"'照明灯台帳 別紙8-1'!AG20","v":0},{"$f":"'照明灯台帳 別紙8-1'!AH20","v":0},{"$f":"'照明灯台帳 別紙8-1'!AI20","v":0},{"$f":"'照明灯台帳 別紙8-1'!AJ20","v":0},{"$f":"'照明灯台帳 別紙8-1'!AK20","v":0},{"$f":"'照明灯台帳 別紙8-1'!AL20","v":0},{"$f":"'照明灯台帳 別紙8-1'!AM20","v":0},{"$f":"'照明灯台帳 別紙8-1'!AN20","v":0},{"$f":"'照明灯台帳 別紙8-1'!AO20","v":0},{"$f":"'照明灯台帳 別紙8-1'!AP20","v":0},{"$f":"'照明灯台帳 別紙8-1'!AQ20","v":0},{"$f":"'照明灯台帳 別紙8-1'!AR20","v":0},{"$f":"'照明灯台帳 別紙8-1'!AS20","v":0},{"$f":"'照明灯台帳 別紙8-1'!AT20","v":0},{"$f":"'照明灯台帳 別紙8-1'!AU20","v":0},{"$f":"'照明灯台帳 別紙8-1'!AV20","v":0},{"$f":"'照明灯台帳 別紙8-1'!AW20","v":0},{"$f":"'照明灯台帳 別紙8-1'!AX20","v":0},{"$f":"'照明灯台帳 別紙8-1'!AY20","v":0},{"$f":"'照明灯台帳 別紙8-1'!AZ20","v":0},{"$f":"'照明灯台帳 別紙8-1'!BA20","v":0},{"$f":"'照明灯台帳 別紙8-1'!BB20","v":0},{"$f":"'照明灯台帳 別紙8-1'!BC20","v":0},{"$f":"'照明灯台帳 別紙8-1'!BD20","v":0},null,null,null,null,{"$f":"'照明灯台帳 別紙8-1'!BI20","v":0}]
[null,null,null,null,null,null,null,null,null,null,null,null,{"$f":"'照明灯台帳 別紙8-1'!M21","v":0},{"$f":"'照明灯台帳 別紙8-1'!N21","v":0},{"$f":"'照明灯台帳 別紙8-1'!O21","v":0},{"$f":"'照明灯台帳 別紙8-1'!P21","v":0},{"$f":"'照明灯台帳 別紙8-1'!Q21","v":0},{"$f":"'照明灯台帳 別紙8-1'!R21","v":0},{"$f":"'照明灯台帳 別紙8-1'!S21","v":0},{"$f":"'照明灯台帳 別紙8-1'!T21","v":0},{"$f":"'照明灯台帳 別紙8-1'!U21","v":0},{"$f":"'照明灯台帳 別紙8-1'!V21","v":0},{"$f":"'照明灯台帳 別紙8-1'!W21","v":0},{"$f":"'照明灯台帳 別紙8-1'!X21","v":0},{"$f":"'照明灯台帳 別紙8-1'!Y21","v":0},{"$f":"'照明灯台帳 別紙8-1'!Z21","v":0},{"$f":"'照明灯台帳 別紙8-1'!AA21","v":0},{"$f":"'照明灯台帳 別紙8-1'!AB21","v":0},{"$f":"'照明灯台帳 別紙8-1'!AC21","v":0},{"$f":"'照明灯台帳 別紙8-1'!AD21","v":0},{"$f":"'照明灯台帳 別紙8-1'!AE21","v":0},{"$f":"'照明灯台帳 別紙8-1'!AF21","v":0},{"$f":"'照明灯台帳 別紙8-1'!AG21","v":0},{"$f":"'照明灯台帳 別紙8-1'!AH21","v":0},{"$f":"'照明灯台帳 別紙8-1'!AI21","v":0},{"$f":"'照明灯台帳 別紙8-1'!AJ21","v":0},{"$f":"'照明灯台帳 別紙8-1'!AK21","v":0},{"$f":"'照明灯台帳 別紙8-1'!AL21","v":0},{"$f":"'照明灯台帳 別紙8-1'!AM21","v":0},{"$f":"'照明灯台帳 別紙8-1'!AN21","v":0},{"$f":"'照明灯台帳 別紙8-1'!AO21","v":0},{"$f":"'照明灯台帳 別紙8-1'!AP21","v":0},{"$f":"'照明灯台帳 別紙8-1'!AQ21","v":0},{"$f":"'照明灯台帳 別紙8-1'!AR21","v":0},{"$f":"'照明灯台帳 別紙8-1'!AS21","v":0},{"$f":"'照明灯台帳 別紙8-1'!AT21","v":0},{"$f":"'照明灯台帳 別紙8-1'!AU21","v":0},{"$f":"'照明灯台帳 別紙8-1'!AV21","v":0},{"$f":"'照明灯台帳 別紙8-1'!AW21","v":0},{"$f":"'照明灯台帳 別紙8-1'!AX21","v":0},{"$f":"'照明灯台帳 別紙8-1'!AY21","v":0},{"$f":"'照明灯台帳 別紙8-1'!AZ21","v":0},{"$f":"'照明灯台帳 別紙8-1'!BA21","v":0},{"$f":"'照明灯台帳 別紙8-1'!BB21","v":0},{"$f":"'照明灯台帳 別紙8-1'!BC21","v":0},{"$f":"'照明灯台帳 別紙8-1'!BD21","v":0},null,null,null,null,{"$f":"'照明灯台帳 別紙8-1'!BI21","v":0}]
[null,null,null,null,null,null,null,null,null,null,null,null,{"$f":"'照明灯台帳 別紙8-1'!M22","v":0},{"$f":"'照明灯台帳 別紙8-1'!N22","v":0},{"$f":"'照明灯台帳 別紙8-1'!O22","v":0},{"$f":"'照明灯台帳 別紙8-1'!P22","v":0},{"$f":"'照明灯台帳 別紙8-1'!Q22","v":0},{"$f":"'照明灯台帳 別紙8-1'!R22","v":0},{"$f":"'照明灯台帳 別紙8-1'!S22","v":0},{"$f":"'照明灯台帳 別紙8-1'!T22","v":0},{"$f":"'照明灯台帳 別紙8-1'!U22","v":0},{"$f":"'照明灯台帳 別紙8-1'!V22","v":0},{"$f":"'照明灯台帳 別紙8-1'!W22","v":0},{"$f":"'照明灯台帳 別紙8-1'!X22","v":0},{"$f":"'照明灯台帳 別紙8-1'!Y22","v":0},{"$f":"'照明灯台帳 別紙8-1'!Z22","v":0},{"$f":"'照明灯台帳 別紙8-1'!AA22","v":0},{"$f":"'照明灯台帳 別紙8-1'!AB22","v":0},{"$f":"'照明灯台帳 別紙8-1'!AC22","v":0},{"$f":"'照明灯台帳 別紙8-1'!AD22","v":0},{"$f":"'照明灯台帳 別紙8-1'!AE22","v":0},{"$f":"'照明灯台帳 別紙8-1'!AF22","v":0},{"$f":"'照明灯台帳 別紙8-1'!AG22","v":0},{"$f":"'照明灯台帳 別紙8-1'!AH22","v":0},{"$f":"'照明灯台帳 別紙8-1'!AI22","v":0},{"$f":"'照明灯台帳 別紙8-1'!AJ22","v":0},{"$f":"'照明灯台帳 別紙8-1'!AK22","v":0},{"$f":"'照明灯台帳 別紙8-1'!AL22","v":0},{"$f":"'照明灯台帳 別紙8-1'!AM22","v":0},{"$f":"'照明灯台帳 別紙8-1'!AN22","v":0},{"$f":"'照明灯台帳 別紙8-1'!AO22","v":0},{"$f":"'照明灯台帳 別紙8-1'!AP22","v":0},{"$f":"'照明灯台帳 別紙8-1'!AQ22","v":0},{"$f":"'照明灯台帳 別紙8-1'!AR22","v":0},{"$f":"'照明灯台帳 別紙8-1'!AS22","v":0},{"$f":"'照明灯台帳 別紙8-1'!AT22","v":0},{"$f":"'照明灯台帳 別紙8-1'!AU22","v":0},{"$f":"'照明灯台帳 別紙8-1'!AV22","v":0},{"$f":"'照明灯台帳 別紙8-1'!AW22","v":0},{"$f":"'照明灯台帳 別紙8-1'!AX22","v":0},{"$f":"'照明灯台帳 別紙8-1'!AY22","v":0},{"$f":"'照明灯台帳 別紙8-1'!AZ22","v":0},{"$f":"'照明灯台帳 別紙8-1'!BA22","v":0},{"$f":"'照明灯台帳 別紙8-1'!BB22","v":0},{"$f":"'照明灯台帳 別紙8-1'!BC22","v":0},{"$f":"'照明灯台帳 別紙8-1'!BD22","v":0},null,null,null,null,{"$f":"'照明灯台帳 別紙8-1'!BI22","v":0}]
[null,null,null,null,null,null,null,null,null,null,null,null,{"$f":"'照明灯台帳 別紙8-1'!M23","v":0},{"$f":"'照明灯台帳 別紙8-1'!N23","v":0},{"$f":"'照明灯台帳 別紙8-1'!O23","v":0},{"$f":"'照明灯台帳 別紙8-1'!P23","v":0},{"$f":"'照明灯台帳 別紙8-1'!Q23","v":0},{"$f":"'照明灯台帳 別紙8-1'!R23","v":0},{"$f":"'照明灯台帳 別紙8-1'!S23","v":0},{"$f":"'照明灯台帳 別紙8-1'!T23","v":0},{"$f":"'照明灯台帳 別紙8-1'!U23","v":0},{"$f":"'照明灯台帳 別紙8-1'!V23","v":0},{"$f":"'照明灯台帳 別紙8-1'!W23","v":0},{"$f":"'照明灯台帳 別紙8-1'!X23","v":0},{"$f":"'照明灯台帳 別紙8-1'!Y23","v":0},{"$f":"'照明灯台帳 別紙8-1'!Z23","v":0},{"$f":"'照明灯台帳 別紙8-1'!AA23","v":0},{"$f":"'照明灯台帳 別紙8-1'!AB23","v":0},{"$f":"'照明灯台帳 別紙8-1'!AC23","v":0},{"$f":"'照明灯台帳 別紙8-1'!AD23","v":0},{"$f":"'照明灯台帳 別紙8-1'!AE23","v":0},{"$f":"'照明灯台帳 別紙8-1'!AF23","v":0},{"$f":"'照明灯台帳 別紙8-1'!AG23","v":0},{"$f":"'照明灯台帳 別紙8-1'!AH23","v":0},{"$f":"'照明灯台帳 別紙8-1'!AI23","v":0},{"$f":"'照明灯台帳 別紙8-1'!AJ23","v":0},{"$f":"'照明灯台帳 別紙8-1'!AK23","v":0},{"$f":"'照明灯台帳 別紙8-1'!AL23","v":0},{"$f":"'照明灯台帳 別紙8-1'!AM23","v":0},{"$f":"'照明灯台帳 別紙8-1'!AN23","v":0},{"$f":"'照明灯台帳 別紙8-1'!AO23","v":0},{"$f":"'照明灯台帳 別紙8-1'!AP23","v":0},{"$f":"'照明灯台帳 別紙8-1'!AQ23","v":0},{"$f":"'照明灯台帳 別紙8-1'!AR23","v":0},{"$f":"'照明灯台帳 別紙8-1'!AS23","v":0},{"$f":"'照明灯台帳 別紙8-1'!AT23","v":0},{"$f":"'照明灯台帳 別紙8-1'!AU23","v":0},{"$f":"'照明灯台帳 別紙8-1'!AV23","v":0},{"$f":"'照明灯台帳 別紙8-1'!AW23","v":0},{"$f":"'照明灯台帳 別紙8-1'!AX23","v":0},{"$f":"'照明灯台帳 別紙8-1'!AY23","v":0},{"$f":"'照明灯台帳 別紙8-1'!AZ23","v":0},{"$f":"'照明灯台帳 別紙8-1'!BA23","v":0},{"$f":"'照明灯台帳 別紙8-1'!BB23","v":0},{"$f":"'照明灯台帳 別紙8-1'!BC23","v":0},{"$f":"'照明灯台帳 別紙8-1'!BD23","v":0},null,null,null,null,{"$f":"'照明灯台帳 別紙8-1'!BI23","v":0}]
[null,null,null,null,null,null,null,null,null,null,null,null,{"$f":"'照明灯台帳 別紙8-1'!M24","v":0},{"$f":"'照明灯台帳 別紙8-1'!N24","v":0},{"$f":"'照明灯台帳 別紙8-1'!O24","v":0},{"$f":"'照明灯台帳 別紙8-1'!P24","v":0},{"$f":"'照明灯台帳 別紙8-1'!Q24","v":0},{"$f":"'照明灯台帳 別紙8-1'!R24","v":0},{"$f":"'照明灯台帳 別紙8-1'!S24","v":0},{"$f":"'照明灯台帳 別紙8-1'!T24","v":0},{"$f":"'照明灯台帳 別紙8-1'!U24","v":0},{"$f":"'照明灯台帳 別紙8-1'!V24","v":0},{"$f":"'照明灯台帳 別紙8-1'!W24","v":0},{"$f":"'照明灯台帳 別紙8-1'!X24","v":0},{"$f":"'照明灯台帳 別紙8-1'!Y24","v":0},{"$f":"'照明灯台帳 別紙8-1'!Z24","v":0},{"$f":"'照明灯台帳 別紙8-1'!AA24","v":0},{"$f":"'照明灯台帳 別紙8-1'!AB24","v":0},{"$f":"'照明灯台帳 別紙8-1'!AC24","v":0},{"$f":"'照明灯台帳 別紙8-1'!AD24","v":0},{"$f":"'照明灯台帳 別紙8-1'!AE24","v":0},{"$f":"'照明灯台帳 別紙8-1'!AF24","v":0},{"$f":"'照明灯台帳 別紙8-1'!AG24","v":0},{"$f":"'照明灯台帳 別紙8-1'!AH24","v":0},{"$f":"'照明灯台帳 別紙8-1'!AI24","v":0},{"$f":"'照明灯台帳 別紙8-1'!AJ24","v":0},{"$f":"'照明灯台帳 別紙8-1'!AK24","v":0},{"$f":"'照明灯台帳 別紙8-1'!AL24","v":0},{"$f":"'照明灯台帳 別紙8-1'!AM24","v":0},{"$f":"'照明灯台帳 別紙8-1'!AN24","v":0},{"$f":"'照明灯台帳 別紙8-1'!AO24","v":0},{"$f":"'照明灯台帳 別紙8-1'!AP24","v":0},{"$f":"'照明灯台帳 別紙8-1'!AQ24","v":0},{"$f":"'照明灯台帳 別紙8-1'!AR24","v":0},{"$f":"'照明灯台帳 別紙8-1'!AS24","v":0},{"$f":"'照明灯台帳 別紙8-1'!AT24","v":0},{"$f":"'照明灯台帳 別紙8-1'!AU24","v":0},{"$f":"'照明灯台帳 別紙8-1'!AV24","v":0},{"$f":"'照明灯台帳 別紙8-1'!AW24","v":0},{"$f":"'照明灯台帳 別紙8-1'!AX24","v":0},{"$f":"'照明灯台帳 別紙8-1'!AY24","v":0},{"$f":"'照明灯台帳 別紙8-1'!AZ24","v":0},{"$f":"'照明灯台帳 別紙8-1'!BA24","v":0},{"$f":"'照明灯台帳 別紙8-1'!BB24","v":0},{"$f":"'照明灯台帳 別紙8-1'!BC24","v":0},{"$f":"'照明灯台帳 別紙8-1'!BD24","v":0},null,null,null,null,{"$f":"'照明灯台帳 別紙8-1'!BI24","v":0}]
[null,null,null,null,null,null,null,null,null,null,null,null,{"$f":"'照明灯台帳 別紙8-1'!M25","v":0},{"$f":"'照明灯台帳 別紙8-1'!N25","v":0},{"$f":"'照明灯台帳 別紙8-1'!O25","v":0},{"$f":"'照明灯台帳 別紙8-1'!P25","v":0},{"$f":"'照明灯台帳 別紙8-1'!Q25","v":0},{"$f":"'照明灯台帳 別紙8-1'!R25","v":0},{"$f":"'照明灯台帳 別紙8-1'!S25","v":0},{"$f":"'照明灯台帳 別紙8-1'!T25","v":0},{"$f":"'照明灯台帳 別紙8-1'!U25","v":0},{"$f":"'照明灯台帳 別紙8-1'!V25","v":0},{"$f":"'照明灯台帳 別紙8-1'!W25","v":0},{"$f":"'照明灯台帳 別紙8-1'!X25","v":0},{"$f":"'照明灯台帳 別紙8-1'!Y25","v":0},{"$f":"'照明灯台帳 別紙8-1'!Z25","v":0},{"$f":"'照明灯台帳 別紙8-1'!AA25","v":0},{"$f":"'照明灯台帳 別紙8-1'!AB25","v":0},{"$f":"'照明灯台帳 別紙8-1'!AC25","v":0},{"$f":"'照明灯台帳 別紙8-1'!AD25","v":0},{"$f":"'照明灯台帳 別紙8-1'!AE25","v":0},{"$f":"'照明灯台帳 別紙8-1'!AF25","v":0},{"$f":"'照明灯台帳 別紙8-1'!AG25","v":0},{"$f":"'照明灯台帳 別紙8-1'!AH25","v":0},{"$f":"'照明灯台帳 別紙8-1'!AI25","v":0},{"$f":"'照明灯台帳 別紙8-1'!AJ25","v":0},{"$f":"'照明灯台帳 別紙8-1'!AK25","v":0},{"$f":"'照明灯台帳 別紙8-1'!AL25","v":0},{"$f":"'照明灯台帳 別紙8-1'!AM25","v":0},{"$f":"'照明灯台帳 別紙8-1'!AN25","v":0},{"$f":"'照明灯台帳 別紙8-1'!AO25","v":0},{"$f":"'照明灯台帳 別紙8-1'!AP25","v":0},{"$f":"'照明灯台帳 別紙8-1'!AQ25","v":0},{"$f":"'照明灯台帳 別紙8-1'!AR25","v":0},{"$f":"'照明灯台帳 別紙8-1'!AS25","v":0},{"$f":"'照明灯台帳 別紙8-1'!AT25","v":0},{"$f":"'照明灯台帳 別紙8-1'!AU25","v":0},{"$f":"'照明灯台帳 別紙8-1'!AV25","v":0},{"$f":"'照明灯台帳 別紙8-1'!AW25","v":0},{"$f":"'照明灯台帳 別紙8-1'!AX25","v":0},{"$f":"'照明灯台帳 別紙8-1'!AY25","v":0},{"$f":"'照明灯台帳 別紙8-1'!AZ25","v":0},{"$f":"'照明灯台帳 別紙8-1'!BA25","v":0},{"$f":"'照明灯台帳 別紙8-1'!BB25","v":0},{"$f":"'照明灯台帳 別紙8-1'!BC25","v":0},{"$f":"'照明灯台帳 別紙8-1'!BD25","v":0},null,null,null,null,{"$f":"'照明灯台帳 別紙8-1'!BI25","v":0}]
[null,null,null,null,null,null,null,null,null,null,null,null,{"$f":"'照明灯台帳 別紙8-1'!M26","v":0},{"$f":"'照明灯台帳 別紙8-1'!N26","v":0},{"$f":"'照明灯台帳 別紙8-1'!O26","v":0},{"$f":"'照明灯台帳 別紙8-1'!P26","v":0},{"$f":"'照明灯台帳 別紙8-1'!Q26","v":0},{"$f":"'照明灯台帳 別紙8-1'!R26","v":0},{"$f":"'照明灯台帳 別紙8-1'!S26","v":0},{"$f":"'照明灯台帳 別紙8-1'!T26","v":0},{"$f":"'照明灯台帳 別紙8-1'!U26","v":0},{"$f":"'照明灯台帳 別紙8-1'!V26","v":0},{"$f":"'照明灯台帳 別紙8-1'!W26","v":0},{"$f":"'照明灯台帳 別紙8-1'!X26","v":0},{"$f":"'照明灯台帳 別紙8-1'!Y26","v":0},{"$f":"'照明灯台帳 別紙8-1'!Z26","v":0},{"$f":"'照明灯台帳 別紙8-1'!AA26","v":0},{"$f":"'照明灯台帳 別紙8-1'!AB26","v":0},{"$f":"'照明灯台帳 別紙8-1'!AC26","v":0},{"$f":"'照明灯台帳 別紙8-1'!AD26","v":0},{"$f":"'照明灯台帳 別紙8-1'!AE26","v":0},{"$f":"'照明灯台帳 別紙8-1'!AF26","v":0},{"$f":"'照明灯台帳 別紙8-1'!AG26","v":0},{"$f":"'照明灯台帳 別紙8-1'!AH26","v":0},{"$f":"'照明灯台帳 別紙8-1'!AI26","v":0},{"$f":"'照明灯台帳 別紙8-1'!AJ26","v":0},{"$f":"'照明灯台帳 別紙8-1'!AK26","v":0},{"$f":"'照明灯台帳 別紙8-1'!AL26","v":0},{"$f":"'照明灯台帳 別紙8-1'!AM26","v":0},{"$f":"'照明灯台帳 別紙8-1'!AN26","v":0},{"$f":"'照明灯台帳 別紙8-1'!AO26","v":0},{"$f":"'照明灯台帳 別紙8-1'!AP26","v":0},{"$f":"'照明灯台帳 別紙8-1'!AQ26","v":0},{"$f":"'照明灯台帳 別紙8-1'!AR26","v":0},{"$f":"'照明灯台帳 別紙8-1'!AS26","v":0},{"$f":"'照明灯台帳 別紙8-1'!AT26","v":0},{"$f":"'照明灯台帳 別紙8-1'!AU26","v":0},{"$f":"'照明灯台帳 別紙8-1'!AV26","v":0},{"$f":"'照明灯台帳 別紙8-1'!AW26","v":0},{"$f":"'照明灯台帳 別紙8-1'!AX26","v":0},{"$f":"'照明灯台帳 別紙8-1'!AY26","v":0},{"$f":"'照明灯台帳 別紙8-1'!AZ26","v":0},{"$f":"'照明灯台帳 別紙8-1'!BA26","v":0},{"$f":"'照明灯台帳 別紙8-1'!BB26","v":0},{"$f":"'照明灯台帳 別紙8-1'!BC26","v":0},{"$f":"'照明灯台帳 別紙8-1'!BD26","v":0},null,null,null,null,{"$f":"'照明灯台帳 別紙8-1'!BI26","v":0}]
[null,null,null,null,null,null,null,null,null,null,null,null,{"$f":"'照明灯台帳 別紙8-1'!M27","v":0},{"$f":"'照明灯台帳 別紙8-1'!N27","v":0},{"$f":"'照明灯台帳 別紙8-1'!O27","v":0},{"$f":"'照明灯台帳 別紙8-1'!P27","v":0},{"$f":"'照明灯台帳 別紙8-1'!Q27","v":0},{"$f":"'照明灯台帳 別紙8-1'!R27","v":0},{"$f":"'照明灯台帳 別紙8-1'!S27","v":0},{"$f":"'照明灯台帳 別紙8-1'!T27","v":0},{"$f":"'照明灯台帳 別紙8-1'!U27","v":0},{"$f":"'照明灯台帳 別紙8-1'!V27","v":0},{"$f":"'照明灯台帳 別紙8-1'!W27","v":0},{"$f":"'照明灯台帳 別紙8-1'!X27","v":0},{"$f":"'照明灯台帳 別紙8-1'!Y27","v":0},{"$f":"'照明灯台帳 別紙8-1'!Z27","v":0},{"$f":"'照明灯台帳 別紙8-1'!AA27","v":0},{"$f":"'照明灯台帳 別紙8-1'!AB27","v":0},{"$f":"'照明灯台帳 別紙8-1'!AC27","v":0},{"$f":"'照明灯台帳 別紙8-1'!AD27","v":0},{"$f":"'照明灯台帳 別紙8-1'!AE27","v":0},{"$f":"'照明灯台帳 別紙8-1'!AF27","v":0},{"$f":"'照明灯台帳 別紙8-1'!AG27","v":0},{"$f":"'照明灯台帳 別紙8-1'!AH27","v":0},{"$f":"'照明灯台帳 別紙8-1'!AI27","v":0},{"$f":"'照明灯台帳 別紙8-1'!AJ27","v":0},{"$f":"'照明灯台帳 別紙8-1'!AK27","v":0},{"$f":"'照明灯台帳 別紙8-1'!AL27","v":0},{"$f":"'照明灯台帳 別紙8-1'!AM27","v":0},{"$f":"'照明灯台帳 別紙8-1'!AN27","v":0},{"$f":"'照明灯台帳 別紙8-1'!AO27","v":0},{"$f":"'照明灯台帳 別紙8-1'!AP27","v":0},{"$f":"'照明灯台帳 別紙8-1'!AQ27","v":0},{"$f":"'照明灯台帳 別紙8-1'!AR27","v":0},{"$f":"'照明灯台帳 別紙8-1'!AS27","v":0},{"$f":"'照明灯台帳 別紙8-1'!AT27","v":0},{"$f":"'照明灯台帳 別紙8-1'!AU27","v":0},{"$f":"'照明灯台帳 別紙8-1'!AV27","v":0},{"$f":"'照明灯台帳 別紙8-1'!AW27","v":0},{"$f":"'照明灯台帳 別紙8-1'!AX27","v":0},{"$f":"'照明灯台帳 別紙8-1'!AY27","v":0},{"$f":"'照明灯台帳 別紙8-1'!AZ27","v":0},{"$f":"'照明灯台帳 別紙8-1'!BA27","v":0},{"$f":"'照明灯台帳 別紙8-1'!BB27","v":0},{"$f":"'照明灯台帳 別紙8-1'!BC27","v":0},{"$f":"'照明灯台帳 別紙8-1'!BD27","v":0},null,null,null,null,{"$f":"'照明灯台帳 別紙8-1'!BI27","v":0}]
[null,null,null,null,null,null,null,null,null,null,null,null,{"$f":"'照明灯台帳 別紙8-1'!M28","v":0},{"$f":"'照明灯台帳 別紙8-1'!N28","v":0},{"$f":"'照明灯台帳 別紙8-1'!O28","v":0},{"$f":"'照明灯台帳 別紙8-1'!P28","v":0},{"$f":"'照明灯台帳 別紙8-1'!Q28","v":0},{"$f":"'照明灯台帳 別紙8-1'!R28","v":0},{"$f":"'照明灯台帳 別紙8-1'!S28","v":0},{"$f":"'照明灯台帳 別紙8-1'!T28","v":0},{"$f":"'照明灯台帳 別紙8-1'!U28","v":0},{"$f":"'照明灯台帳 別紙8-1'!V28","v":0},{"$f":"'照明灯台帳 別紙8-1'!W28","v":0},{"$f":"'照明灯台帳 別紙8-1'!X28","v":0},{"$f":"'照明灯台帳 別紙8-1'!Y28","v":0},{"$f":"'照明灯台帳 別紙8-1'!Z28","v":0},{"$f":"'照明灯台帳 別紙8-1'!AA28","v":0},{"$f":"'照明灯台帳 別紙8-1'!AB28","v":0},{"$f":"'照明灯台帳 別紙8-1'!AC28","v":0},{"$f":"'照明灯台帳 別紙8-1'!AD28","v":0},{"$f":"'照明灯台帳 別紙8-1'!AE28","v":0},{"$f":"'照明灯台帳 別紙8-1'!AF28","v":0},{"$f":"'照明灯台帳 別紙8-1'!AG28","v":0},{"$f":"'照明灯台帳 別紙8-1'!AH28","v":0},{"$f":"'照明灯台帳 別紙8-1'!AI28","v":0},{"$f":"'照明灯台帳 別紙8-1'!AJ28","v":0},{"$f":"'照明灯台帳 別紙8-1'!AK28","v":0},{"$f":"'照明灯台帳 別紙8-1'!AL28","v":0},{"$f":"'照明灯台帳 別紙8-1'!AM28","v":0},{"$f":"'照明灯台帳 別紙8-1'!AN28","v":0},{"$f":"'照明灯台帳 別紙8-1'!AO28","v":0},{"$f":"'照明灯台帳 別紙8-1'!AP28","v":0},{"$f":"'照明灯台帳 別紙8-1'!AQ28","v":0},{"$f":"'照明灯台帳 別紙8-1'!AR28","v":0},{"$f":"'照明灯台帳 別紙8-1'!AS28","v":0},{"$f":"'照明灯台帳 別紙8-1'!AT28","v":0},{"$f":"'照明灯台帳 別紙8-1'!AU28","v":0},{"$f":"'照明灯台帳 別紙8-1'!AV28","v":0},{"$f":"'照明灯台帳 別紙8-1'!AW28","v":0},{"$f":"'照明灯台帳 別紙8-1'!AX28","v":0},{"$f":"'照明灯台帳 別紙8-1'!AY28","v":0},{"$f":"'照明灯台帳 別紙8-1'!AZ28","v":0},{"$f":"'照明灯台帳 別紙8-1'!BA28","v":0},{"$f":"'照明灯台帳 別紙8-1'!BB28","v":0},{"$f":"'照明灯台帳 別紙8-1'!BC28","v":0},{"$f":"'照明灯台帳 別紙8-1'!BD28","v":0},null,null,null,null,{"$f":"'照明灯台帳 別紙8-1'!BI28","v":0}]
[null,null,null,null,null,null,null,null,null,null,null,null,{"$f":"'照明灯台帳 別紙8-1'!M29","v":0},{"$f":"'照明灯台帳 別紙8-1'!N29","v":0},{"$f":"'照明灯台帳 別紙8-1'!O29","v":0},{"$f":"'照明灯台帳 別紙8-1'!P29","v":0},{"$f":"'照明灯台帳 別紙8-1'!Q29","v":0},{"$f":"'照明灯台帳 別紙8-1'!R29","v":0},{"$f":"'照明灯台帳 別紙8-1'!S29","v":0},{"$f":"'照明灯台帳 別紙8-1'!T29","v":0},{"$f":"'照明灯台帳 別紙8-1'!U29","v":0},{"$f":"'照明灯台帳 別紙8-1'!V29","v":0},{"$f":"'照明灯台帳 別紙8-1'!W29","v":0},{"$f":"'照明灯台帳 別紙8-1'!X29","v":0},{"$f":"'照明灯台帳 別紙8-1'!Y29","v":0},{"$f":"'照明灯台帳 別紙8-1'!Z29","v":0},{"$f":"'照明灯台帳 別紙8-1'!AA29","v":0},{"$f":"'照明灯台帳 別紙8-1'!AB29","v":0},{"$f":"'照明灯台帳 別紙8-1'!AC29","v":0},{"$f":"'照明灯台帳 別紙8-1'!AD29","v":0},{"$f":"'照明灯台帳 別紙8-1'!AE29","v":0},{"$f":"'照明灯台帳 別紙8-1'!AF29","v":0},{"$f":"'照明灯台帳 別紙8-1'!AG29","v":0},{"$f":"'照明灯台帳 別紙8-1'!AH29","v":0},{"$f":"'照明灯台帳 別紙8-1'!AI29","v":0},{"$f":"'照明灯台帳 別紙8-1'!AJ29","v":0},{"$f":"'照明灯台帳 別紙8-1'!AK29","v":0},{"$f":"'照明灯台帳 別紙8-1'!AL29","v":0},{"$f":"'照明灯台帳 別紙8-1'!AM29","v":0},{"$f":"'照明灯台帳 別紙8-1'!AN29","v":0},{"$f":"'照明灯台帳 別紙8-1'!AO29","v":0},{"$f":"'照明灯台帳 別紙8-1'!AP29","v":0},{"$f":"'照明灯台帳 別紙8-1'!AQ29","v":0},{"$f":"'照明灯台帳 別紙8-1'!AR29","v":0},{"$f":"'照明灯台帳 別紙8-1'!AS29","v":0},{"$f":"'照明灯台帳 別紙8-1'!AT29","v":0},{"$f":"'照明灯台帳 別紙8-1'!AU29","v":0},{"$f":"'照明灯台帳 別紙8-1'!AV29","v":0},{"$f":"'照明灯台帳 別紙8-1'!AW29","v":0},{"$f":"'照明灯台帳 別紙8-1'!AX29","v":0},{"$f":"'照明灯台帳 別紙8-1'!AY29","v":0},{"$f":"'照明灯台帳 別紙8-1'!AZ29","v":0},{"$f":"'照明灯台帳 別紙8-1'!BA29","v":0},{"$f":"'照明灯台帳 別紙8-1'!BB29","v":0},{"$f":"'照明灯台帳 別紙8-1'!BC29","v":0},{"$f":"'照明灯台帳 別紙8-1'!BD29","v":0},null,null,null,null,{"$f":"'照明灯台帳 別紙8-1'!BI29","v":0}]
[null,null,null,null,null,null,null,null,null,null,null,null,{"$f":"'照明灯台帳 別紙8-1'!M30","v":0},{"$f":"'照明灯台帳 別紙8-1'!N30","v":0},{"$f":"'照明灯台帳 別紙8-1'!O30","v":0},{"$f":"'照明灯台帳 別紙8-1'!P30","v":0},{"$f":"'照明灯台帳 別紙8-1'!Q30","v":0},{"$f":"'照明灯台帳 別紙8-1'!R30","v":0},{"$f":"'照明灯台帳 別紙8-1'!S30","v":0},{"$f":"'照明灯台帳 別紙8-1'!T30","v":0},{"$f":"'照明灯台帳 別紙8-1'!U30","v":0},{"$f":"'照明灯台帳 別紙8-1'!V30","v":0},{"$f":"'照明灯台帳 別紙8-1'!W30","v":0},{"$f":"'照明灯台帳 別紙8-1'!X30","v":0},{"$f":"'照明灯台帳 別紙8-1'!Y30","v":0},{"$f":"'照明灯台帳 別紙8-1'!Z30","v":0},{"$f":"'照明灯台帳 別紙8-1'!AA30","v":0},{"$f":"'照明灯台帳 別紙8-1'!AB30","v":0},{"$f":"'照明灯台帳 別紙8-1'!AC30","v":0},{"$f":"'照明灯台帳 別紙8-1'!AD30","v":0},{"$f":"'照明灯台帳 別紙8-1'!AE30","v":0},{"$f":"'照明灯台帳 別紙8-1'!AF30","v":0},{"$f":"'照明灯台帳 別紙8-1'!AG30","v":0},{"$f":"'照明灯台帳 別紙8-1'!AH30","v":0},{"$f":"'照明灯台帳 別紙8-1'!AI30","v":0},{"$f":"'照明灯台帳 別紙8-1'!AJ30","v":0},{"$f":"'照明灯台帳 別紙8-1'!AK30","v":0},{"$f":"'照明灯台帳 別紙8-1'!AL30","v":0},{"$f":"'照明灯台帳 別紙8-1'!AM30","v":0},{"$f":"'照明灯台帳 別紙8-1'!AN30","v":0},{"$f":"'照明灯台帳 別紙8-1'!AO30","v":0},{"$f":"'照明灯台帳 別紙8-1'!AP30","v":0},{"$f":"'照明灯台帳 別紙8-1'!AQ30","v":0},{"$f":"'照明灯台帳 別紙8-1'!AR30","v":0},{"$f":"'照明灯台帳 別紙8-1'!AS30","v":0},{"$f":"'照明灯台帳 別紙8-1'!AT30","v":0},{"$f":"'照明灯台帳 別紙8-1'!AU30","v":0},{"$f":"'照明灯台帳 別紙8-1'!AV30","v":0},{"$f":"'照明灯台帳 別紙8-1'!AW30","v":0},{"$f":"'照明灯台帳 別紙8-1'!AX30","v":0},{"$f":"'照明灯台帳 別紙8-1'!AY30","v":0},{"$f":"'照明灯台帳 別紙8-1'!AZ30","v":0},{"$f":"'照明灯台帳 別紙8-1'!BA30","v":0},{"$f":"'照明灯台帳 別紙8-1'!BB30","v":0},{"$f":"'照明灯台帳 別紙8-1'!BC30","v":0},{"$f":"'照明灯台帳 別紙8-1'!BD30","v":0},null,null,null,null,{"$f":"'照明灯台帳 別紙8-1'!BI30","v":0}]
[null,null,null,null,null,null,null,null,null,null,null,null,{"$f":"'照明灯台帳 別紙8-1'!M31","v":0},{"$f":"'照明灯台帳 別紙8-1'!N31","v":0},{"$f":"'照明灯台帳 別紙8-1'!O31","v":0},{"$f":"'照明灯台帳 別紙8-1'!P31","v":0},{"$f":"'照明灯台帳 別紙8-1'!Q31","v":0},{"$f":"'照明灯台帳 別紙8-1'!R31","v":0},{"$f":"'照明灯台帳 別紙8-1'!S31","v":0},{"$f":"'照明灯台帳 別紙8-1'!T31","v":0},{"$f":"'照明灯台帳 別紙8-1'!U31","v":0},{"$f":"'照明灯台帳 別紙8-1'!V31","v":0},{"$f":"'照明灯台帳 別紙8-1'!W31","v":0},{"$f":"'照明灯台帳 別紙8-1'!X31","v":0},{"$f":"'照明灯台帳 別紙8-1'!Y31","v":0},{"$f":"'照明灯台帳 別紙8-1'!Z31","v":0},{"$f":"'照明灯台帳 別紙8-1'!AA31","v":0},{"$f":"'照明灯台帳 別紙8-1'!AB31","v":0},{"$f":"'照明灯台帳 別紙8-1'!AC31","v":0},{"$f":"'照明灯台帳 別紙8-1'!AD31","v":0},{"$f":"'照明灯台帳 別紙8-1'!AE31","v":0},{"$f":"'照明灯台帳 別紙8-1'!AF31","v":0},{"$f":"'照明灯台帳 別紙8-1'!AG31","v":0},{"$f":"'照明灯台帳 別紙8-1'!AH31","v":0},{"$f":"'照明灯台帳 別紙8-1'!AI31","v":0},{"$f":"'照明灯台帳 別紙8-1'!AJ31","v":0},{"$f":"'照明灯台帳 別紙8-1'!AK31","v":0},{"$f":"'照明灯台帳 別紙8-1'!AL31","v":0},{"$f":"'照明灯台帳 別紙8-1'!AM31","v":0},{"$f":"'照明灯台帳 別紙8-1'!AN31","v":0},{"$f":"'照明灯台帳 別紙8-1'!AO31","v":0},{"$f":"'照明灯台帳 別紙8-1'!AP31","v":0},{"$f":"'照明灯台帳 別紙8-1'!AQ31","v":0},{"$f":"'照明灯台帳 別紙8-1'!AR31","v":0},{"$f":"'照明灯台帳 別紙8-1'!AS31","v":0},{"$f":"'照明灯台帳 別紙8-1'!AT31","v":0},{"$f":"'照明灯台帳 別紙8-1'!AU31","v":0},{"$f":"'照明灯台帳 別紙8-1'!AV31","v":0},{"$f":"'照明灯台帳 別紙8-1'!AW31","v":0},{"$f":"'照明灯台帳 別紙8-1'!AX31","v":0},{"$f":"'照明灯台帳 別紙8-1'!AY31","v":0},{"$f":"'照明灯台帳 別紙8-1'!AZ31","v":0},{"$f":"'照明灯台帳 別紙8-1'!BA31","v":0},{"$f":"'照明灯台帳 別紙8-1'!BB31","v":0},{"$f":"'照明灯台帳 別紙8-1'!BC31","v":0},{"$f":"'照明灯台帳 別紙8-1'!BD31","v":0},null,null,null,null,{"$f":"'照明灯台帳 別紙8-1'!BI31","v":0}]
[null,null,null,null,null,null,null,null,null,null,null,null,{"$f":"'照明灯台帳 別紙8-1'!M32","v":0},{"$f":"'照明灯台帳 別紙8-1'!N32","v":0},{"$f":"'照明灯台帳 別紙8-1'!O32","v":0},{"$f":"'照明灯台帳 別紙8-1'!P32","v":0},{"$f":"'照明灯台帳 別紙8-1'!Q32","v":0},{"$f":"'照明灯台帳 別紙8-1'!R32","v":0},{"$f":"'照明灯台帳 別紙8-1'!S32","v":0},{"$f":"'照明灯台帳 別紙8-1'!T32","v":0},{"$f":"'照明灯台帳 別紙8-1'!U32","v":0},{"$f":"'照明灯台帳 別紙8-1'!V32","v":0},{"$f":"'照明灯台帳 別紙8-1'!W32","v":0},{"$f":"'照明灯台帳 別紙8-1'!X32","v":0},{"$f":"'照明灯台帳 別紙8-1'!Y32","v":0},{"$f":"'照明灯台帳 別紙8-1'!Z32","v":0},{"$f":"'照明灯台帳 別紙8-1'!AA32","v":0},{"$f":"'照明灯台帳 別紙8-1'!AB32","v":0},{"$f":"'照明灯台帳 別紙8-1'!AC32","v":0},{"$f":"'照明灯台帳 別紙8-1'!AD32","v":0},{"$f":"'照明灯台帳 別紙8-1'!AE32","v":0},{"$f":"'照明灯台帳 別紙8-1'!AF32","v":0},{"$f":"'照明灯台帳 別紙8-1'!AG32","v":0},{"$f":"'照明灯台帳 別紙8-1'!AH32","v":0},{"$f":"'照明灯台帳 別紙8-1'!AI32","v":0},{"$f":"'照明灯台帳 別紙8-1'!AJ32","v":0},{"$f":"'照明灯台帳 別紙8-1'!AK32","v":0},{"$f":"'照明灯台帳 別紙8-1'!AL32","v":0},{"$f":"'照明灯台帳 別紙8-1'!AM32","v":0},{"$f":"'照明灯台帳 別紙8-1'!AN32","v":0},{"$f":"'照明灯台帳 別紙8-1'!AO32","v":0},{"$f":"'照明灯台帳 別紙8-1'!AP32","v":0},{"$f":"'照明灯台帳 別紙8-1'!AQ32","v":0},{"$f":"'照明灯台帳 別紙8-1'!AR32","v":0},{"$f":"'照明灯台帳 別紙8-1'!AS32","v":0},{"$f":"'照明灯台帳 別紙8-1'!AT32","v":0},{"$f":"'照明灯台帳 別紙8-1'!AU32","v":0},{"$f":"'照明灯台帳 別紙8-1'!AV32","v":0},{"$f":"'照明灯台帳 別紙8-1'!AW32","v":0},{"$f":"'照明灯台帳 別紙8-1'!AX32","v":0},{"$f":"'照明灯台帳 別紙8-1'!AY32","v":0},{"$f":"'照明灯台帳 別紙8-1'!AZ32","v":0},{"$f":"'照明灯台帳 別紙8-1'!BA32","v":0},{"$f":"'照明灯台帳 別紙8-1'!BB32","v":0},{"$f":"'照明灯台帳 別紙8-1'!BC32","v":0},{"$f":"'照明灯台帳 別紙8-1'!BD32","v":0},null,null,null,null,{"$f":"'照明灯台帳 別紙8-1'!BI32","v":0}]
[null,null,null,null,null,null,null,null,null,null,null,null,"（分電盤）"]
[null,null,null,null,null,null,null,null,null,null,null,null,{"$f":"'分電盤台帳 別紙8-2'!B3","v":1},{"$f":"'分電盤台帳 別紙8-2'!C3","v":"00-100"},{"$f":"'分電盤台帳 別紙8-2'!J3","v":"〇〇28号線"},{"$f":"'照明灯台帳 別紙8-1'!P28","v":0},{"$f":"'分電盤台帳 別紙8-2'!L3","v":"中央区"},{"$f":"'分電盤台帳 別紙8-2'!M3","v":"加納町"},{"$f":"'分電盤台帳 別紙8-2'!N3","v":"６丁目"},{"$f":"'分電盤台帳 別紙8-2'!O3","v":"5-1"},{"$f":"'照明灯台帳 別紙8-1'!U28","v":0},{"$f":"'照明灯台帳 別紙8-1'!V28","v":0},null,null,{"$f":"'照明灯台帳 別紙8-1'!Y28","v":0},{"$f":"'照明灯台帳 別紙8-1'!Z28","v":0},{"$f":"'照明灯台帳 別紙8-1'!AA28","v":0},{"$f":"'照明灯台帳 別紙8-1'!AB28","v":0},{"$f":"'照明灯台帳 別紙8-1'!AC28","v":0},{"$f":"'照明灯台帳 別紙8-1'!AD28","v":0},{"$f":"'分電盤台帳 別紙8-2'!X3","v":"独立"},{"$f":"'照明灯台帳 別紙8-1'!AF28","v":0},{"$f":"'照明灯台帳 別紙8-1'!AG28","v":0},{"$f":"'照明灯台帳 別紙8-1'!AH28","v":0},{"$f":"'照明灯台帳 別紙8-1'!AI28","v":0},{"$f":"'照明灯台帳 別紙8-1'!AJ28","v":0},{"$f":"'照明灯台帳 別紙8-1'!AK28","v":0},{"$f":"'照明灯台帳 別紙8-1'!AL28","v":0},{"$f":"'照明灯台帳 別紙8-1'!AM28","v":0},{"$f":"'分電盤台帳 別紙8-2'!V3","v":"ｶﾉｳﾁｮｳ６"},{"$f":"'照明灯台帳 別紙8-1'!AO28","v":0},{"$f":"'照明灯台帳 別紙8-1'!AP28","v":0},{"$f":"'照明灯台帳 別紙8-1'!AQ28","v":0},{"$f":"'照明灯台帳 別紙8-1'!AR28","v":0},{"$f":"'照明灯台帳 別紙8-1'!AS28","v":0},{"$f":"'照明灯台帳 別紙8-1'!AT28","v":0},{"$f":"'照明灯台帳 別紙8-1'!AU28","v":0},{"$f":"'照明灯台帳 別紙8-1'!AV28","v":0},{"$f":"'照明灯台帳 別紙8-1'!AW28","v":0},{"$f":"'照明灯台帳 別紙8-1'!AX28","v":0},{"$f":"'照明灯台帳 別紙8-1'!AY28","v":0},{"$f":"'分電盤台帳 別紙8-2'!AN3","v":"神戸営業所"},{"$f":"'分電盤台帳 別紙8-2'!AO3","v":"03"},{"$f":"'分電盤台帳 別紙8-2'!AP3","v":"45"},{"$f":"'分電盤台帳 別紙8-2'!AQ3","v":"1234"},{"$f":"'分電盤台帳 別紙8-2'!AR3","v":"567890"},null,null,null,null,{"$f":"'分電盤台帳 別紙8-2'!AW3","v":"○○交番前"}]
[null,null,null,null,null,null,null,null,null,null,null,null,{"$f":"'分電盤台帳 別紙8-2'!B4","v":2},{"$f":"'分電盤台帳 別紙8-2'!C4","v":"00-101"},{"$f":"'分電盤台帳 別紙8-2'!J4","v":"〇〇29号線"},{"$f":"'照明灯台帳 別紙8-1'!P29","v":0},{"$f":"'分電盤台帳 別紙8-2'!L4","v":"中央区"},{"$f":"'分電盤台帳 別紙8-2'!M4","v":"加納町"},{"$f":"'分電盤台帳 別紙8-2'!N4","v":"６丁目"},{"$f":"'分電盤台帳 別紙8-2'!O4","v":"5-2"},{"$f":"'照明灯台帳 別紙8-1'!U29","v":0},{"$f":"'照明灯台帳 別紙8-1'!V29","v":0},null,null,{"$f":"'照明灯台帳 別紙8-1'!Y29","v":0},{"$f":"'照明灯台帳 別紙8-1'!Z29","v":0},{"$f":"'照明灯台帳 別紙8-1'!AA29","v":0},{"$f":"'照明灯台帳 別紙8-1'!AB29","v":0},{"$f":"'照明灯台帳 別紙8-1'!AC29","v":0},{"$f":"'照明灯台帳 別紙8-1'!AD29","v":0},{"$f":"'分電盤台帳 別紙8-2'!X4","v":"添架"},{"$f":"'照明灯台帳 別紙8-1'!AF29","v":0},{"$f":"'照明灯台帳 別紙8-1'!AG29","v":0},{"$f":"'照明灯台帳 別紙8-1'!AH29","v":0},{"$f":"'照明灯台帳 別紙8-1'!AI29","v":0},{"$f":"'照明灯台帳 別紙8-1'!AJ29","v":0},{"$f":"'照明灯台帳 別紙8-1'!AK29","v":0},{"$f":"'照明灯台帳 別紙8-1'!AL29","v":0},{"$f":"'照明灯台帳 別紙8-1'!AM29","v":0},{"$f":"'分電盤台帳 別紙8-2'!V4","v":"ｶﾉｳﾁｮｳ７"},{"$f":"'照明灯台帳 別紙8-1'!AO29","v":0},{"$f":"'照明灯台帳 別紙8-1'!AP29","v":0},{"$f":"'照明灯台帳 別紙8-1'!AQ29","v":0},{"$f":"'照明灯台帳 別紙8-1'!AR29","v":0},{"$f":"'照明灯台帳 別紙8-1'!AS29","v":0},{"$f":"'照明灯台帳 別紙8-1'!AT29","v":0},{"$f":"'照明灯台帳 別紙8-1'!AU29","v":0},{"$f":"'照明灯台帳 別紙8-1'!AV29","v":0},{"$f":"'照明灯台帳 別紙8-1'!AW29","v":0},{"$f":"'照明灯台帳 別紙8-1'!AX29","v":0},{"$f":"'照明灯台帳 別紙8-1'!AY29","v":0},{"$f":"'分電盤台帳 別紙8-2'!AN4","v":"神戸営業所"},{"$f":"'分電盤台帳 別紙8-2'!AO4","v":"03"},{"$f":"'分電盤台帳 別紙8-2'!AP4","v":"45"},{"$f":"'分電盤台帳 別紙8-2'!AQ4","v":"1234"},{"$f":"'分電盤台帳 別紙8-2'!AR4","v":"567891"},null,null,null,null,{"$f":"'分電盤台帳 別紙8-2'!AW4","v":0}]
[null,null,null,null,null,null,null,null,null,null,null,null,{"$f":"'分電盤台帳 別紙8-2'!B5","v":0},{"$f":"'分電盤台帳 別紙8-2'!C5","v":0},{"$f":"'分電盤台帳 別紙8-2'!J5","v":0},null,null,null,null,null,null,null,null,null,null,null,null,null,null,null,{"$f":"'分電盤台帳 別紙8-2'!X5","v":0},null,null,null,null,null,null,null,null,{"$f":"'分電盤台帳 別紙8-2'!V5","v":0},null,null,null,null,null,null,null,null,null,null,null,{"$f":"'分電盤台帳 別紙8-2'!AN5","v":0},null,null,null,{"$f":"'分電盤台帳 別紙8-2'!AR5","v":0},null,null,null,null,{"$f":"'分電盤台帳 別紙8-2'!AW5","v":0}]
[null,null,null,null,null,null,null,null,null,null,null,null,{"$f":"'分電盤台帳 別紙8-2'!B6","v":0},{"$f":"'分電盤台帳 別紙8-2'!C6","v":0},{"$f":"'分電盤台帳 別紙8-2'!J6","v":0},null,null,null,null,null,null,null,null,null,null,null,null,null,null,null,{"$f":"'分電盤台帳 別紙8-2'!X6","v":0},null,null,null,null,null,null,null,null,{"$f":"'分電盤台帳 別紙8-2'!V6","v":0},null,null,null,null,null,null,null,null,null,null,null,{"$f":"'分電盤台帳 別紙8-2'!AN6","v":0},null,null,null,{"$f":"'分電盤台帳 別紙8-2'!AR6","v":0},null,null,null,null,{"$f":"'分電盤台帳 別紙8-2'!AW6","v":0}]
[null,null,null,null,null,null,null,null,null,null,null,null,{"$f":"'分電盤台帳 別紙8-2'!B7","v":0},{"$f":"'分電盤台帳 別紙8-2'!C7","v":0},{"$f":"'分電盤台帳 別紙8-2'!J7","v":0},null,null,null,null,null,null,null,null,null,null,null,null,null,null,null,{"$f":"'分電盤台帳 別紙8-2'!X7","v":0},null,null,null,null,null,null,null,null,{"$f":"'分電盤台帳 別紙8-2'!V7","v":0},null,null,null,null,null,null,null,null,null,null,null,{"$f":"'分電盤台帳 別紙8-2'!AN7","v":0},null,null,null,{"$f":"'分電盤台帳 別紙8-2'!AR7","v":0},null,null,null,null,{"$f":"'分電盤台帳 別紙8-2'!AW7","v":0}]
[]
[null,"＜記入例＞"]
[null,"（凡　例）"]
[null,null," ： 記入不要。"]
[null,"データの入力"," ： １行に１灯分のデータを入力する。セルの結合は厳禁。"]
[null,"入力リスト"," ： リストに表示がある場合はプルダウンメニューから選択する。"]
[null,"行数の追加"," ： 入力行数が不足する場合は、行の範囲内で ”行の挿入” 操作によって追加する。（ドロップダウンリストが保持される）"]